BEGIN:VCALENDAR
VERSION:2.0
PRODID:-//Caminos Extremadura - ECPv6.11.2//NONSGML v1.0//EN
CALSCALE:GREGORIAN
METHOD:PUBLISH
X-ORIGINAL-URL:https://www.caminosextremadura.es
X-WR-CALDESC:Eventos para Caminos Extremadura
REFRESH-INTERVAL;VALUE=DURATION:PT1H
X-Robots-Tag:noindex
X-PUBLISHED-TTL:PT1H
BEGIN:VTIMEZONE
TZID:Europe/Madrid
BEGIN:DAYLIGHT
TZOFFSETFROM:+0100
TZOFFSETTO:+0200
TZNAME:CEST
DTSTART:20240331T010000
END:DAYLIGHT
BEGIN:STANDARD
TZOFFSETFROM:+0200
TZOFFSETTO:+0100
TZNAME:CET
DTSTART:20241027T010000
END:STANDARD
END:VTIMEZONE
BEGIN:VEVENT
DTSTART;VALUE=DATE:20240411
DTEND;VALUE=DATE:20240412
DTSTAMP:20260421T090210
CREATED:20240409T082706Z
LAST-MODIFIED:20240409T082706Z
UID:5173-1712793600-1712879999@www.caminosextremadura.es
SUMMARY:JORNADA CICLO INTEGRAL DEL AGUA_DIPUTACIÓN DE CÁCERES
DESCRIPTION:FECHA: JUEVES 11 DE ABRIL DE 2024 \nLUGAR: COMPLEJO CULTURAL SAN FRANCISCO.CÁCERES (SALA MALINCHE) \nINCRIPCIONES \nPROGRAMA
URL:https://www.caminosextremadura.es/evento/jornada-ciclo-integral-del-agua_diputacion-de-caceres/
LOCATION:Sala Malinche (Complejo Cultural San Francisco. Cáceres)\, Rda. de San Francisco\, 15\, Centro\,\, Cáceres\, Cáceres\, 10002\, España
CATEGORIES:Otros Cursos
ORGANIZER;CN="CONSORCIO M%C3%81S MEDIO (DIPUTACI%C3%93N DE C%C3%81CERES)":MAILTO:info@masmedio.es
GEO:39.4647099;-6.3855286
X-APPLE-STRUCTURED-LOCATION;VALUE=URI;X-ADDRESS=Sala Malinche (Complejo Cultural San Francisco. Cáceres) Rda. de San Francisco 15 Centro Cáceres Cáceres 10002 España;X-APPLE-RADIUS=500;X-TITLE=Rda. de San Francisco\, 15\, Centro\,:geo:-6.3855286,39.4647099
END:VEVENT
END:VCALENDAR