BEGIN:VCALENDAR
VERSION:2.0
PRODID:-//Caminos Extremadura - ECPv6.11.2//NONSGML v1.0//EN
CALSCALE:GREGORIAN
METHOD:PUBLISH
X-ORIGINAL-URL:https://www.caminosextremadura.es
X-WR-CALDESC:Eventos para Caminos Extremadura
REFRESH-INTERVAL;VALUE=DURATION:PT1H
X-Robots-Tag:noindex
X-PUBLISHED-TTL:PT1H
BEGIN:VTIMEZONE
TZID:Europe/Madrid
BEGIN:DAYLIGHT
TZOFFSETFROM:+0100
TZOFFSETTO:+0200
TZNAME:CEST
DTSTART:20260329T010000
END:DAYLIGHT
BEGIN:STANDARD
TZOFFSETFROM:+0200
TZOFFSETTO:+0100
TZNAME:CET
DTSTART:20261025T010000
END:STANDARD
END:VTIMEZONE
BEGIN:VEVENT
DTSTART;VALUE=DATE:20260330
DTEND;VALUE=DATE:20260527
DTSTAMP:20260423T221612
CREATED:20260327T100003Z
LAST-MODIFIED:20260327T101226Z
UID:6311-1774828800-1779839999@www.caminosextremadura.es
SUMMARY:Experto Open BIM. Edición Online
DESCRIPTION:CURSO HABILITANTE PARA PRESENTARSE AL EXAMEN BuildingSMART \nLa actividad formativa\, en colaboración con el Ministerio de Transportes y Movilidad Sostenible\, se basa en un curso compuesto por cuatro (4) módulos. \nEstos módulos definen un itinerario formativo referido al Plan BIM España y combinan enfoques didácticos teóricos con sesiones prácticas. \nAsimismo\, el programa está alineado con los tres primeros niveles formativos de buildingSMART (Entry\, Foundation y Practitioner)\, incorporando de forma aplicada los procesos openBIM y los estándares de buildingSMART\, en especial en gestión de la información y control de entregables mediante IFC\, BCF e IDS\, junto con el trabajo en entornos comunes de datos (CDE). \nEl curso estará dividido en cuatro módulos:\n\nMódulo 1: las claves del Plan BIM España en la contratación pública.\nMódulo 2: El Plan BIM aplicado a los contratos – claves de gestión BIM de contratos\nMódulo 3: El Plan BIM aplicado a las organizaciones- procesos de transformación\nMódulo 4: Nuevas tecnologías y oportunidades \n\n\nDirigido A: \nProfesionales que trabajan con la Administración Pública y necesitan aplicar BIM de forma realista en contratos y organización: técnicos y responsables de contratación\, gestores de infraestructuras\, perfiles TIC y jefaturas de servicio de la Administración General del Estado (AGE)\, comunidades autónomas\, entidades locales y entes públicos empresariales. \nAsimismo\, está orientada a gestores de contratos\, responsables BIM y equipos técnicos de ingenierías\, constructoras y empresas de explotación\, mantenimiento y conservación que ejecutan contratos para la Administración Pública. \nTambién es especialmente recomendable para quienes tengan interés en potenciar\, actualizar y validar sus conocimientos en gestión de contratos BIM con estándares abiertos (openBIM) —desde la definición de requisitos y entregables hasta la colaboración y control de calidad de la información. \nObjetivo: \n\n\nEsta formación tiene un carácter eminentemente práctico y está orientada a dotar de competencias aplicables para implantar el Plan BIM España en contratos y organizaciones\, reforzando la gestión digital de la información como palanca de transparencia\, colaboración y eficiencia\, y conectándola con el trabajo real de contratación\, seguimiento\, recepción y explotación de activos. \nSe pone especial énfasis en el trabajo bajo estándares abiertos y en la gestión y control de entregables (requisitos\, PEB\, coordinación y validación)\, con enfoque directo a la realidad de los contratos públicos y su ciclo de vida. \nDe igual forma\, el programa incorpora tecnologías habilitadoras —AR/VR\, gemelos digitales\, IoT\, IA y Digital Building Permits— y casos de uso prácticos para entender su impacto y oportunidades en el sector. En coherencia con ello\, el curso se plantea como un itinerario alineado con buildingSMART Entry–Foundation–Practitioner\, asegurando una progresión desde los fundamentos hasta la aplicación especialista en contratación pública e implantación organizativa. \nAdemás\, esta formación ES HABILITANTE para presentarse al examen buildingSMART Practitioner\, incluyendo casos prácticos y ejemplos reales de trabajo con openBIM —como el uso de IFC\, BCF e IDS\, y el control de calidad de entregables en entornos colaborativos (CDE)— en línea con las evidencias y validaciones que se evalúan en la certificación. \nTipo de asistencia: En Remoto \nInscripción: \n\n\n\n\nAforo :  80 alumnos\nHoras :  61 h\n\nProgramación: 30 marzo-26 mayo\nENLACE A PROGRAMA \nTarifas:\n\nGratuito para todo trabajador asociado al Ministerio de Transportes. \nColegiada/o CICCP:  250\,00 € \n\nColegiada/o CICCP en situación de desempleo:   100\,00 €\n\nOtros profesionales: 350\,00 €\n\nPrecolegiada/CICCP: 100\,00 €\n\n\n\nInscripción: \n\n\n\n\nAforo :  80 alumnos\nHoras :  61 h\n\n\n\n\n\nINSCRIPCIÓN COMO COLEGIADO\nINSCRIPCIÓN COMO NO COLEGIADO\n\n\n\nDocentes / Ponentes:\n\nAlex Gárate. Experto BIM Infraestructuras\, Director de INGREEN Innovación.\nEnrique González. Experto en Digitalización y Tecnologías aplicadas al sector de la construcción\, Socio y director de INGREN Innovación\nRaúl Alfaro. Responsable de Consultoría en INGREEN Innovación
URL:https://www.caminosextremadura.es/evento/experto-open-bim-edicion-online/
LOCATION:on line\, España
CATEGORIES:Cursos propios,Otros Cursos
ATTACH;FMTTYPE=image/jpeg:https://www.caminosextremadura.es/wp-content/uploads/2026/03/Portada-CURSO-EXPERTO-OPEN-BIM.jpg
END:VEVENT
END:VCALENDAR