BEGIN:VCALENDAR
VERSION:2.0
PRODID:-//Caminos Extremadura - ECPv6.11.2//NONSGML v1.0//EN
CALSCALE:GREGORIAN
METHOD:PUBLISH
X-WR-CALNAME:Caminos Extremadura
X-ORIGINAL-URL:https://www.caminosextremadura.es
X-WR-CALDESC:Eventos para Caminos Extremadura
REFRESH-INTERVAL;VALUE=DURATION:PT1H
X-Robots-Tag:noindex
X-PUBLISHED-TTL:PT1H
BEGIN:VTIMEZONE
TZID:Europe/Madrid
BEGIN:DAYLIGHT
TZOFFSETFROM:+0100
TZOFFSETTO:+0200
TZNAME:CEST
DTSTART:20220327T010000
END:DAYLIGHT
BEGIN:STANDARD
TZOFFSETFROM:+0200
TZOFFSETTO:+0100
TZNAME:CET
DTSTART:20221030T010000
END:STANDARD
END:VTIMEZONE
BEGIN:VEVENT
DTSTART;TZID=Europe/Madrid:20220317T090000
DTEND;TZID=Europe/Madrid:20220317T143000
DTSTAMP:20260426T044729
CREATED:20220302T104314Z
LAST-MODIFIED:20220302T104942Z
UID:3710-1647507600-1647527400@www.caminosextremadura.es
SUMMARY:Jornada: "El Reto de la Ingeniería frente al Cambio Climático"
DESCRIPTION:El próximo 17 de marzo tendrá lugar esta interesante jornada\, organizada por el Comité Técnico de Agua\, Energía y Cambio Climático que preside Dª. Carmen de Andrés. \nPodrá seguirse de forma presencial en el Auditorio Agustín de Betancourt del Colegio de Ingenieros de Caminos\, Canales y Puertos (Madrid)\, o bien de forma telemática. \nINSCRIPCIONES \nPROGRAMA \n \nEn el evento analizaremos en tres mesas redondas\, las siguientes temáticas: \n\nDiagnosis y situación actual del cambio climático tras la COP 26\nVisión y perspectiva de la adaptación al cambio climático\nExpectativas y qué hacer desde los diferentes sectores económicos ante la adaptación al cambio climático\n\nContaremos para la inauguración de la Jornada con D. Hugo Morán\, Secretario de Estado de Medio Ambiente y para la clausura con D. Xavier Flores\, Secretario General de Infraestructuras.
URL:https://www.caminosextremadura.es/evento/jornada-el-reto-de-la-ingenieria-frente-al-cambio-climatico/
LOCATION:Sede CICCP Madrid_ Auditorio Agustín de Betancourt\, C/ Almagro\,42 Bajo\, Madrid\, Cáceres\, 28010\, España
CATEGORIES:Cursos propios
ATTACH;FMTTYPE=image/jpeg:https://www.caminosextremadura.es/wp-content/uploads/2022/03/2022-02-24-programa-Jornada-CAMBIO-CLIMATICO_Pagina_1-scaled.jpg
END:VEVENT
END:VCALENDAR