BEGIN:VCALENDAR
VERSION:2.0
PRODID:-//Caminos Extremadura - ECPv6.11.2//NONSGML v1.0//EN
CALSCALE:GREGORIAN
METHOD:PUBLISH
X-WR-CALNAME:Caminos Extremadura
X-ORIGINAL-URL:https://www.caminosextremadura.es
X-WR-CALDESC:Eventos para Caminos Extremadura
REFRESH-INTERVAL;VALUE=DURATION:PT1H
X-Robots-Tag:noindex
X-PUBLISHED-TTL:PT1H
BEGIN:VTIMEZONE
TZID:Europe/Madrid
BEGIN:DAYLIGHT
TZOFFSETFROM:+0100
TZOFFSETTO:+0200
TZNAME:CEST
DTSTART:20220327T010000
END:DAYLIGHT
BEGIN:STANDARD
TZOFFSETFROM:+0200
TZOFFSETTO:+0100
TZNAME:CET
DTSTART:20221030T010000
END:STANDARD
BEGIN:DAYLIGHT
TZOFFSETFROM:+0100
TZOFFSETTO:+0200
TZNAME:CEST
DTSTART:20230326T010000
END:DAYLIGHT
BEGIN:STANDARD
TZOFFSETFROM:+0200
TZOFFSETTO:+0100
TZNAME:CET
DTSTART:20231029T010000
END:STANDARD
BEGIN:DAYLIGHT
TZOFFSETFROM:+0100
TZOFFSETTO:+0200
TZNAME:CEST
DTSTART:20240331T010000
END:DAYLIGHT
BEGIN:STANDARD
TZOFFSETFROM:+0200
TZOFFSETTO:+0100
TZNAME:CET
DTSTART:20241027T010000
END:STANDARD
END:VTIMEZONE
BEGIN:VEVENT
DTSTART;VALUE=DATE:20240415
DTEND;VALUE=DATE:20240725
DTSTAMP:20260425T221842
CREATED:20240415T085742Z
LAST-MODIFIED:20240618T085834Z
UID:5189-1713139200-1721865599@www.caminosextremadura.es
SUMMARY:ELECCIONES 2024
DESCRIPTION:Las elecciones del Colegio de Ingenieros de Caminos\, Canales y Puertos a Órganos Generales (Junta de Gobierno y Consejo General) se celebrarán el próximo 15 de julio de 2024\n\n\n\n\n \n    \n  \n 
URL:https://www.caminosextremadura.es/evento/elecciones-2024/
LOCATION:Sede CICCP Demarcación Extremadura\, C/García Plata de Osma\, 36\, Cáceres\, Cáceres\, 10001\, España
ORGANIZER;CN="CICCP Extremadura":MAILTO:caceres@ciccp.es
END:VEVENT
BEGIN:VEVENT
DTSTART;TZID=Europe/Madrid:20231026T160000
DTEND;TZID=Europe/Madrid:20231027T140000
DTSTAMP:20260425T221842
CREATED:20230921T114322Z
LAST-MODIFIED:20231018T212851Z
UID:4813-1698336000-1698415200@www.caminosextremadura.es
SUMMARY:JORNADAS TRANSFRONTERIZAS ESPAÑA-PORTUGAL
DESCRIPTION:La Demarcación en Extremadura del Colegio de Ingenieros de Caminos\, Canales y Puertos\, va a organizar junto a la Región Centro de la Ordem dos Engenheiros de Portugal\, unas Jornadas Transfronterizas España-Portugal\, sobre el Ciclo integral del agua\, el Cambio climático. Logística y Conexiones ferroviarias. \nLas Jornadas se celebrarán el 26 y 27 de octubre\, en la Sede de Cajalmendralejo (Plaza San Francisco\, Badajoz) y constarán de dos bloques: \n\nEl día 26 de octubre\, en sesión de tarde\, se analizará el Ciclo integral del agua y el Cambio climático.\nEl día 27 de octubre\, en sesión de mañana\, centrará la atención sobre Logística y Conexiones ferroviarias.\n\nEstas jornadas constituyen una gran oportunidad de networking empresarial con las diferentes administraciones\, y profesionales del sector\, contando con un interesante Programa con ponentes de muy alto nivel y con numerosas autoridades y empresas confirmadas. \nLa asistencia a las Jornadas es gratuita hasta completar aforo y requiere inscripción previa. \nPROGRAMA  JORNADAS \nFORMULARIO INSCRIPCIÓN \nFORMULARIO PATROCINADORES \nY con el apoyo y patrocinio de numerosas empresas del sector: \n \n\nPATROCINADORES PREMIUM:\n\nACCIONA\, MEDWAY\, GRUPO SAUR\, ROVER y SACYR \n\nPATROCINADORES PLUS:\n\nASCH\, AVINTIA\, AZVI\, CHM. CONSTRUCCIONES SEVILLA\, CONVENSA\, COPASA\, FERROVIAL\, GÉVORA\, INCO\, LANTANIA\, MAGENTA\, MATINSA\, TORRES CÁMARA\, TXT\, \n\nPATROCINADORES:\n\nAGRIPA\, ARAL INGENIERÍA\, CORREDOR SUDOESTE IBÉRICO EN RED\, COTODISA\, CURVA\, ELABOREX\, GR4\, ICONO\, IDIC CONSULTING\, INPROESA\, INVENIO\, LACER\, MAJOIN\, MARTÍN CASILLAS\, PATH\, PAYMACOTAS EXTREMADURA-TPF INGENIERÍA\, PLACONSA\, SENPA y VIA ARGEM CONSULTORES \n\nCOLABORADORES:\n\nCajalmendralejo\, OHLA\,Ayuntamiento de Badajoz\, MITMA\, MITECO\, RPI Gobierno Portugués\, Junta de Extremadura\, Confederación Hidrográfica del Tajo (CHT)\, Confederación Hidrográfica del Guadiana (CHG)\, Administración de la Región Hidrográfica (ARH) del Tajo y del Oeste de Portugal\, Administración de la Región Hidrográfica Centro de Portugal (CCDR)\, Empresa Portuguesa de Aguas Libres (EPAL)\,  Agencia Portuguesa de Medio Ambiente (APA)\, Federación Mundial de Organizaciones de Ingenieros (WFEO)\, ADIF\, Comboios de Portugal\, Unión Internacional de Ferrocarriles (UIC)\,  Puerto de Huelva\, Autoridad Portuaria de Huelva\, Autoridad Portuaria de la Bahía de Algeciras\, Puerto de Aveiro\, Puertos de Sines y el Algarve (APS)\, Diputación Provincial de Huesca y Consejo Superior de Obras Públicas de Portugal . \n 
URL:https://www.caminosextremadura.es/evento/jornadas-transfronterizas-espana-portugal/
LOCATION:Sede Caja Almendralejo en Badajoz\, Plaza San Francisco\, Badajoz\, Badajoz\, 08700\, España
CATEGORIES:Cursos propios,Otros Cursos
ATTACH;FMTTYPE=image/jpeg:https://www.caminosextremadura.es/wp-content/uploads/2023/09/16-9-mitma-scaled.jpg
END:VEVENT
BEGIN:VEVENT
DTSTART;VALUE=DATE:20230926
DTEND;VALUE=DATE:20230930
DTSTAMP:20260425T221842
CREATED:20230321T123056Z
LAST-MODIFIED:20230321T123056Z
UID:4465-1695686400-1696031999@www.caminosextremadura.es
SUMMARY:Congreso Internacional de Patrimonio de la Obra Pública y la Ingeniería Civil
DESCRIPTION:Cuenca\, Toledo\, Madrid. España.\n26 – 29 de septiembre de 2023\n \nEl Colegio de Ingenieros de Caminos\, Canales y Puertos y su Demarcación en Castilla-La Mancha\, organizan el I Congreso Internacional de Patrimonio Obra Pública y la Ingeniería Civil con el objetivo de identificar\, ensalzar y rentabilizar el patrimonio de la obra pública en su entorno paisajístico. \nEste encuentro internacional  se celebrará en Cuenca\, Toledo y Madrid del 26 al 29 de septiembre de 2023. \nBajo el lema “Construir el paisaje y activar el turismo” el congreso tiene\, entre sus objetivos\, defender la protección\, conservación y rehabilitación del patrimonio de la obra pública para consolidar la historia colectiva. \nOtro eje fundamental de este encuentro internacional es promover el desarrollo económico sostenible\, el turismo\, la vertebración de la España despoblada y fomentar las inversiones en el patrimonio de la obra pública. \nPROGRAMA\nINSCRIPCIONES\nLas inscripciones de asistencia al congreso están abiertas y las que se realicen antes del 30 de abril cuentan con una bonificación. \nCOMUNICACIONES\nEl Comité Organizador del I Congreso Internacional de Patrimonio de la Obra Pública y de la Ingeniería Civil ha ampliado la recepción de propuestas de comunicaciones hasta el 31 de marzo. \nEl Congreso ha despertado un gran interés y profesionales de distintos ámbitos han enviado casi un centenar de propuestas de comunicaciones. Ante la solicitud recibida de ampliación del plazo de entrega de comunicaciones por parte de distintos autores\, el Comité Organizador ha aprobado prorrogarlo. \nLas comunicaciones completas y los resúmenes aceptados por el Comité Técnico del Congreso se incluirán en el volumen Patrimonio de la Obra Pública y de la Ingeniería Civil que se publicará en formato digital y con asignación de código ISBN. \nAdemás\, el Comité Organizador\, podrá invitar a una selección de autores a que publiquen sus comunicaciones en un número especial de alguna de las revistas científicas sobre el patrimonio de la ingeniería civil más relevantes en lengua española y en el ámbito internacional. \n+ INFO: PÁGINA WEB DEL CONGRESO\n\n\nA través de la página web www.congresopatrimoniodeobrapublica.es se pueden enviar comunicaciones\, realizar las inscripciones de asistencia\, consultar el programa de contenidos\, las bases de los premios y otras informaciones de interés.
URL:https://www.caminosextremadura.es/evento/congreso-internacional-de-patrimonio-de-la-obra-publica-y-la-ingenieria-civil/
CATEGORIES:Cursos propios,Otros Cursos
ATTACH;FMTTYPE=image/gif:https://www.caminosextremadura.es/wp-content/uploads/2023/03/Gif_patrimonio_V3.gif
END:VEVENT
BEGIN:VEVENT
DTSTART;TZID=Europe/Madrid:20230620T093000
DTEND;TZID=Europe/Madrid:20230620T140000
DTSTAMP:20260425T221842
CREATED:20230608T093013Z
LAST-MODIFIED:20230608T094225Z
UID:4745-1687253400-1687269600@www.caminosextremadura.es
SUMMARY:JORNADA: "ENCARGOS A MEDIOS PROPIOS Y CONTRATACIÓN PÚBLICA EN LAS ADMINISTRACIONES PÚBLICAS".
DESCRIPTION:SEMINARIO DE CONTRATACIÓN PÚBLICA DE LA REAL ACADEMIA DE JURISPRUDENCIA Y LEGISLACIÓN DE EXTREMADURA (RAJLEX)\n5ª JORNADA DE TRABAJO: «ENCARGOS A MEDIOS PROPIOS Y CONTRATACIÓN PÚBLICA EN LAS ADMINISTRACIONES PÚBLICAS. BALANCE Y PERSPECTIVAS DE FUTURO TRAS 5 AÑOS DE VIGENCIA DE LA LCSP».\n\n FECHA: 20 DE JUNIO DE 2023\n LUGAR DE CELEBRACIÓN: SALÓN DE ACTOS DE LA ESCUELA POLITÉCNICA DE LA UNIVERSIDAD DE EXTREMADURA (CÁCERES)\nPROGRAMA\nINSCRIPCIONES\nRemitir ficha inscripción a cncextremadura@cncextremadura.com.  Tfno: 927 22 60 11\n\n9:30 horas. Acreditaciones. \n10:00 horas. Inauguración y presentación de la Jornada a cargo de: \n\nJesús Torrecilla. Director de la Escuela Politécnica de la Uex.\nFrancisco Lamoneda. Presidente de RAJLEX.\nJuan Antonio Pavón Pérez. Director de las Jornadas.\nCarlos Izquierdo de Tapia. Presidente de la Confederación Extremeña de la Construcción (CNC Extremadura).\n\n 10:30 horas. Primera Ponencia «Encargos a medios propios y derecho de la competencia». \n\nJosé Eugenio Soriano García. Catedrático Emérito de Derecho Administrativo de la Universidad Complutense de Madrid.\n\n 11:15 horas. Segunda Ponencia “Marco jurídico de los encargos a medios propios en la LCSP«.  \n\nFelio José Bauzá Martorell. Profesor Titular de Derecho Administrativo (Catedrático acreditado) de la Universidad de las Islas Baleares.\n\n 12:00 horas: Pausa/café. \n 12:15 horas. Mesa Redonda: «Una visión práctica de los encargos a los medios propios en la Administración pública». \nPresenta y Modera:  \n\nD. Juan Antonio Pavón Pérez.  Profesor de Derecho Administrativo de la UEX\n\nIntervienen: \n\nDavid Casero Rodríguez: “Experiencia en el control de la ejecución de encargos a medios propios en la Administración Local”\n\nJefe de Sección de Infraestructuras de la Excma. Diputación Provincial de Cáceres. \n\nPedro Brufao Curiel: “Jurisprudencia reciente sobre encargos a medios propios y contratación pública”\n\nProfesor Titular de Derecho Administrativo de la Universidad de Extremadura. \n\nD. Ignacio Sánchez de Mora Andrés: “Jibarizando el mercado de la ingeniería de consulta en España”\n\nVocal de la Junta Rectora de la Demarcación de Andalucía\, Ceuta y Melilla del Colegio de Ingenieros de Caminos\, Canales y Puertos. Presidente de  CÍES\, federación empresarial Conocimiento e Ingeniería de España \n\nJosé María Abreu Sánchez: “Competencia desleal de la Administración”.\n\nVicepresidente 2º de CNC Cáceres-FECONS. \n13:30 horas: Ruegos y preguntas/Debate \n \n 
URL:https://www.caminosextremadura.es/evento/jornada-encargos-a-medios-propios-y-contratacion-publica-en-las-administraciones-publicas/
LOCATION:Escuela Politécnica de Cáceres\, Av. de la Universidad\, S/N\, Cáceres\, Cáceres\, 10003\, España
CATEGORIES:Cursos propios,Otros Cursos
ATTACH;FMTTYPE=image/jpeg:https://www.caminosextremadura.es/wp-content/uploads/2023/06/blueprint-g1159cb995_1280-v1.jpg
END:VEVENT
BEGIN:VEVENT
DTSTART;TZID=Europe/Madrid:20221027T121500
DTEND;TZID=Europe/Madrid:20221027T130000
DTSTAMP:20260425T221842
CREATED:20221019T105658Z
LAST-MODIFIED:20221019T193939Z
UID:4202-1666872900-1666875600@www.caminosextremadura.es
SUMMARY:MESA REDONDA FORO FICON 2022 "RETOS DE LAS INFRAESTRUCTURAS DEL TRANSPORTE EN EXTREMADURA"
DESCRIPTION:Fecha: 27 de octubre de 2022 \nHorario: 12:15 h a 13:00 h  \nLugar: FORO FICON. FEVAL (Don Benito\, Badajoz) \nOrganiza: Demarcación de Extremadura del Colegio de Ingenieros de Caminos\, Canales y Puertos \nMESA REDONDA FORO FICON 2022: «RETOS DE LAS INFRAESTRUCTURAS DEL TRANSPORTE EN EXTREMADURA« \nIntervinientes: \n\nFernando Pedrazo Majárrez\, Jefe de Demarcación de Carreteras del Estado en Extremadura\, con la intervención “Las futuras carreteras de Extremadura”.\nEva Sánchez- Montero Velasco Directora General de Transportes. Consejería de Movilidad\, Transporte y Vivienda de la Junta de Extremadura\, con la intervención “Desarrollo logístico de las infraestructuras del transporte en Extremadura”.\nLorenzo Jaro Arias. Director de Planificación Funcional en la Dirección General de ADIF Alta Velocidad\, con la intervención “Retos de las infraestructuras ferroviarias en Extremadura”.\n\nMesa redonda: \n\nModerador: Pablo Jiménez Guijarro\, Vicedecano de la Demarcación y Técnico del equipo de la Dirección Corporativa de Gestión de Fondos Europeos en la Dirección General de ADIF Alta Velocidad.\n\nParticipantes: \n\nJavier González Estrada\, Vocal de la Junta Rectora de la Demarcación y Director de Proyectos y Obras en la Consultora “IDIC Consulting Ibergroup\, S.L.”\nMarta García García\, Vocal de la Junta Rectora de la Demarcación y Profesora Titular de la UEX en el Área de Ingeniería Hidráulica. Investigadora de TRANSyT\, miembro del Foro de Ingeniería del Transporte (FIT) y de la Red europea científica sobre transporte (NECTAR)\nAntonio Maya\, Director de Logística de las Bodegas López Morenas.\n\nAl final de la mesa redonda se dará paso a un Turno de preguntas. \nEn esta mesa redonda organizada por la Demarcación de Extremadura del CICCP\, además de contar con intervinientes de reconocido prestigio y expertos en el ámbito de las Infraestructuras del Transporte\, se tratarán cuestiones de gran interés para el sector y la profesión\, con el objetivo una vez más de visibilizar el importante papel que desempeñan los Ingenieros de Caminos\, Canales y Puertos en el desarrollo del futuro de la región\, que pasa por unas ciudades y territorios bien planificados\, conectados y con una red de infraestructuras modernas que permitan avanzar en el desarrollo de Extremadura y contribuir a superar el desafío demográfico y territorial al que nos enfrentamos. \nPosteriormente ese mismo jueves 27 de octubre\, de 14:00 h a 17:30 h\, está prevista la celebración de una comida networking con la Consejera de Movilidad\, Transporte y Vivienda. De la Junta de Extremadura\, Leire Iglesias Santiago. Tras la misma habrá un café informativo con las personas asistentes. El coste de la comida es 25 euros que se abonará el mismo día en FEVAL. \nINSCRIPCIÓN MESA REDONDA Y COMIDA CON CONSEJERA \nPROGRAMA MESA REDONDA CICCP_FICON 2022\n \nENLACE FORO FICON 2022
URL:https://www.caminosextremadura.es/evento/mesa-redonda-foro-ficon-2022-retos-de-las-infraestructuras-del-transporte-en-extremadura/
LOCATION:FEVAL Institución Ferial\, Paseo de FEVAL\, S/N\, Don Benito\, Badajoz\, 06400\, España
CATEGORIES:Cursos propios,Otros Cursos
ATTACH;FMTTYPE=image/jpeg:https://www.caminosextremadura.es/wp-content/uploads/2022/10/FICON-2022.jpg
END:VEVENT
BEGIN:VEVENT
DTSTART;TZID=Europe/Madrid:20221018T093000
DTEND;TZID=Europe/Madrid:20221018T140000
DTSTAMP:20260425T221842
CREATED:20221014T111830Z
LAST-MODIFIED:20221014T113050Z
UID:4193-1666085400-1666101600@www.caminosextremadura.es
SUMMARY:JORNADA DE PRESENTACIÓN MANUAL DE ACCESIBILIDAD UNIVERSAL EN EL SECTOR DE LA CONSTRUCCIÓN
DESCRIPTION:CAMPAÑA  DIRIGIDA AL SECTOR  DE LA CONSTRUCCIÓN EN MATERIA DE ACCESIBILIDAD\nPRESENTACIÓN DEL MANUAL DE ACCESIBILIDAD UNIVERSAL PARA EL SECTOR DE LA CONSTRUCCIÓN\n\nINSCRIPCIÓN JORNADA\nPrograma Jornada CICCP. 18.10.2022.\nSede CICCP. C/ Rafael García Plata de Osma\, 36\, Cáceres.\n9:30h APERTURA INSTITUCIONAL DE LA CAMPAÑA. 20 min. \nJosé Manuel Blanco Segarra \nDecano del Colegio de Ingenieros de Caminos\, Canales y Puertos de Extremadura. \nMª Ángeles López Amado  \nDirectora General de Accesibilidad y Centros. \n  \n9:50h INTRODUCCIÓN -MARCO GENERAL. FILOSOFÍA Y VALORES EN AU EN EXTREMADURA. 20 min. \nMª Ángeles López Amado  \nDirectora General de Accesibilidad y Centros. \nSagrario Conejero Vidal \nJefa de Servicio de Accesibilidad y Centros. \n  \n10:10h NOCIONES EN URBANIZACIÓN\, TRANSPORTE Y ESPACIOS NATURALES. HERRAMIENTAS: MANUAL DEL SECTOR DE LA CONSTRUCCIÓN Y CATÁLOGO DE PRECIOS. 50 min. \nLuis Bermejo Fernández                \nArquitecto Técnico. DG Accesibilidad y Centros \n  \n11.00h EJEMPLOS DE ACTUACIONES EN OBRAS E INFRAESTRUCTURAS CIVILES. 30 min. \nRonda Sur \nNuevo puente en Alcántara \nOficina Técnica de Accesibilidad de Extremadura. OTAEX (APAMEX) \nMaría Moreno Amado \nJuan Borrego Vaquero  \nDG de Movilidad e Infraestructuras Viarias \nConsejería de Movilidad\, Transporte y Vivienda \nPedro A. Rodríguez Izquierdo \nJefe de Sección \n  \n11.30 h a 12.00 h Pausa-Café \n  \n12.00h PRÁCTICAS IN SITU CON LAS OFICINAS DE ACCESIBILIDAD UNIVERSAL DE EXTREMADURA. 2 h. \nOficina Técnica de Accesibilidad de Extremadura. OTAEX (APAMEX): \nMaría Moreno amado \nJuan Borrego Vaquero  \nOficina de Accesibilidad Cognitiva de Extremadura. OACEX (PLENA INCLUSIÓN): \nJosé Mª Tejeda Tena \nBorja Carretero Pérez \n 
URL:https://www.caminosextremadura.es/evento/jornada-de-presentacion-manual-de-accesibilidad-universal-en-el-sector-de-la-construccion/
LOCATION:Sede CICCP Demarcación Extremadura\, C/García Plata de Osma\, 36\, Cáceres\, Cáceres\, 10001\, España
CATEGORIES:Cursos propios,Otros Cursos
ATTACH;FMTTYPE=image/jpeg:https://www.caminosextremadura.es/wp-content/uploads/2022/10/MANUAL-DE-ACCESIBILIDAD-UNIVERSAL.jpg
END:VEVENT
BEGIN:VEVENT
DTSTART;TZID=Europe/Madrid:20221011T090000
DTEND;TZID=Europe/Madrid:20221011T130000
DTSTAMP:20260425T221842
CREATED:20221005T090036Z
LAST-MODIFIED:20221005T094653Z
UID:4177-1665478800-1665493200@www.caminosextremadura.es
SUMMARY:JORNADA SOBRE SITUACIÓN DE LOS FONDOS NEXT GENERATION
DESCRIPTION:El Colegio de Ingenieros de Caminos\, Canales y Puertos junto con Banco Caminos te invitan el próximo 11 de octubre\, a partir de las 9 horas\, a la interesante «Jornada sobre la situación de los fondos Next Generation». \nContaremos con la presencia de Xavier Flores\, Secretario General de Infraestructuras del Ministerio de Transportes\, Movilidad y Agenda Urbana. \n\nTambién analizaremos la gestión de los fondos en una interesante mesa redonda con: \n\nJoan Franco\, Presidente de Tecniberia\nJulián Núñez\, Presidente de SEOPAN\nConcha Santos\, Presidenta de ANCI\nPedro Fernández\, Presidente de la CNC\nPablo Sáez\, Presidente de ACEX\n\n\n\n\nFECHA: 11 DE OCTUBRE\n\n\nHORARIO: 9:00 h a 13:00 h\nASISTENCIA: PRESENCIAL/TELEMÁTICA\nPROGRAMA\nINSCRIPCIONES\n \n \n 
URL:https://www.caminosextremadura.es/evento/jornada-sobre-situacion-de-los-fondos-next-generation/
LOCATION:Sede CICCP Madrid_ Auditorio Agustín de Betancourt\, C/ Almagro\,42 Bajo\, Madrid\, Cáceres\, 28010\, España
CATEGORIES:Cursos propios
ATTACH;FMTTYPE=image/jpeg:https://www.caminosextremadura.es/wp-content/uploads/2022/10/PG_ObservatorioV8_Pagina_1-scaled.jpg
END:VEVENT
BEGIN:VEVENT
DTSTART;TZID=Europe/Madrid:20220224T090000
DTEND;TZID=Europe/Madrid:20220224T140000
DTSTAMP:20260425T221842
CREATED:20220211T093213Z
LAST-MODIFIED:20220211T095252Z
UID:3676-1645693200-1645711200@www.caminosextremadura.es
SUMMARY:JORNADA TÉCNICA: "NORMATIVA ESTRUCTURAL Y GEOTÉCNICA EN LOS PROYECTOS DE LA DGC”
DESCRIPTION:ORGANIZADORES: CICCP y MITMA (DGC)\nFECHA: 24 de febrero.\nTipo de asistencia: Presencial y Remoto\n\nPROGRAMA DE LA JORNADA\n\n\nINSCRIPCIONES: Pincha aquí\n\nRESUMEN:\nEsta Jornada\, que integra aspectos estructurales y geotécnicos\, tiene por objeto dar una visión de conjunto del marco normativo a aplicar en los proyectos de la Red de Carreteras del Estado\, así como de las herramientas de ayuda que la Dirección General de Carreteras pone a disposición de la comunidad técnica para facilitar dicha aplicación. \nDesde marzo de 2019\, los puentes de nueva construcción\, la ampliación y refuerzo de estructuras existentes y las obras geotécnicas de la Red de Carreteras del Estado deben proyectarse con Eurocódigos\, de acuerdo con la orden circular 1/2019\, que da cumplimiento a la reglamentación europea en este campo. \nPor otro lado\, el 11 de noviembre de 2021 entró en vigor el Real Decreto 470/2021 por el que se aprueba el Código Estructural que\, de acuerdo con su disposición transitoria única\, deberá aplicarse a: \n• Los proyectos cuya orden de estudio sea posterior al 11 de noviembre de 2021\n• Las obras cuya construcción se inicie con posterioridad al 11 de noviembre de 2024 \nDentro del ámbito de aplicación del Código Estructural -las estructuras de hormigón\, de acero y mixtas-\, la disposición adicional segunda del RD 470/2021 se convierte en el punto de encuentro de ambos caminos: según dicha disposición\, el proyecto con Eurocódigos constituye una “alternativa para justificar que la estructura cumple las exigencias establecidas en el Código”. \nAdemás\, el Código Estructural contiene prescripciones relativas a otros aspectos\, adicionales y complementarios al contenido de los Eurocódigos\, que deben ser cumplidas. Este es el caso\, como indica la citada disposición adicional segunda\, de las prescripciones relativas a los materiales\, la durabilidad\, la ejecución\, el control de calidad y el mantenimiento. \n\n\n\nPRESENTACIÓN:\n\n\n\n• Miguel Ángel Carrillo. Presidente del CICCP\n• Javier Herrero. Director General de Carreteras\n• Rosario Cornejo. Directora Técnica DGC\n• Pablo Bueno. Presidente de Tecniberia \nPONENTES:\n• Pilar Crespo. Jefe de Área de Estructuras DGC\n• José Mª Goicolea. Catedrático UPM. Presidente UNE-CTN 140\n• José Simón-Talero. Director general Torroja Ingeniería. Presidente UNE-CTN 140/SC0 y SC1\n• Miguel Ortega. Director de Ingeniería IDEAM. Miembro del equipo redactor EN 1994\n• María João Freitas. Jefe de proyectos IDEAM\n• Álvaro Serrano. Director técnico MC2. Miembro del equipo redactor CEN TC 250-Horizontal Group of Bridges\n• Álvaro Parrilla. Jefe de Área de Geotecnia DGC\n• José Estaire. Jefe del Área Laboratorio de Geotecnia CEDEX. Miembro del equipo redactor EN 1997\n• Amadeo Benavent. Catedrático UPM. Miembro del equipo redactor EN 1998 \nUBICACIÓN: AUDITORIO BETANCOURT (Colegio de Ingenieros de Caminos\, Canales y Puertos)\n\n\n\n\nC/ Almagro\, 42\n28010 – Madrid\n(Metro RUBEN DARIO) \nDIRIGIDO A:\n\nProfesionales vinculados al proyecto y construcción de puentes y obras geotécnicas\, pertenecientes a empresas consultoras\, constructoras\, de control\, fabricantes de productos de construcción y a la Administración.
URL:https://www.caminosextremadura.es/evento/jornada-tecnica-normativa-estructural-y-geotecnica-en-los-proyectos-de-la-dgc/
LOCATION:Sede CICCP Madrid_ Auditorio Agustín de Betancourt\, C/ Almagro\,42 Bajo\, Madrid\, Cáceres\, 28010\, España
CATEGORIES:Cursos propios
ATTACH;FMTTYPE=image/jpeg:https://www.caminosextremadura.es/wp-content/uploads/2022/02/2022-02-04-programa-Jornada-Normativa-Estructural-DGC_Pagina_1-scaled.jpg
END:VEVENT
END:VCALENDAR