BEGIN:VCALENDAR
VERSION:2.0
PRODID:-//Caminos Extremadura - ECPv6.11.2//NONSGML v1.0//EN
CALSCALE:GREGORIAN
METHOD:PUBLISH
X-WR-CALNAME:Caminos Extremadura
X-ORIGINAL-URL:https://www.caminosextremadura.es
X-WR-CALDESC:Eventos para Caminos Extremadura
REFRESH-INTERVAL;VALUE=DURATION:PT1H
X-Robots-Tag:noindex
X-PUBLISHED-TTL:PT1H
BEGIN:VTIMEZONE
TZID:Europe/Madrid
BEGIN:DAYLIGHT
TZOFFSETFROM:+0100
TZOFFSETTO:+0200
TZNAME:CEST
DTSTART:20250330T010000
END:DAYLIGHT
BEGIN:STANDARD
TZOFFSETFROM:+0200
TZOFFSETTO:+0100
TZNAME:CET
DTSTART:20251026T010000
END:STANDARD
END:VTIMEZONE
BEGIN:VEVENT
DTSTART;TZID=Europe/Madrid:20251114T090000
DTEND;TZID=Europe/Madrid:20251114T133000
DTSTAMP:20260426T054635
CREATED:20251110T120908Z
LAST-MODIFIED:20251110T123346Z
UID:6219-1763110800-1763127000@www.caminosextremadura.es
SUMMARY:JORNADA CÁCERES: " REPENSAR LA CONTRATACIÓN PÚBLICA DEL FUTURO:¿A DÓNDE VAMOS?\, ¿A QUIÉN BENEFICIA?
DESCRIPTION:SEMINARIO DE CONTRATACIÓN PÚBLICA DE LA REAL ACADEMIA DE JURISPRUDENCIA Y LEGISLACIÓN DE EXTREMADURA (RAJLEX):\n6ª JORNADA DE TRABAJO: » REPENSAR LA CONTRATACIÓN PÚBLICA DEL FUTURO:¿QUO VADIS? (¿A DÓNDE VAMOS?)\, ¿CUI PRODEST? (¿A QUIÉN BENEFICIA?)\nFECHA: 14 DE NOVIEMBRE DE 2025-CÁCERES\nLUGAR DE CELEBRACIÓN: SALÓN DE ACTOS DE LA FACULTAD DE DERECHO DE LA UNIVERSIDAD DE EXTREMADURA\nINSCRIPCIONES\nDirectores académicos:\nJuan Antonio Pavón Pérez /Académico Correspondiente de la RAJYLEX. Doctor en Derecho.Profesor de Derecho Administrativo de la UEX\nJoaquín Sánchez Chamorro / Secretario General de CNC Extremadura\nObjetivos de la Jornada: La aplicación de la vigente normativa en contratación pública arroja más sombras que luces. Abordaremos los problemas fundamentales y las patologías detectadas (inseguridad jurídica\, la falta de control en la ejecución\, la ausencia de una planificación estratégica en la materia\, etc.).  La Comisión Europea ha abierto un plazo para la evaluación de las Directivas de Contratación Pública para mejorar la competencia\, agilizar procesos y lograr objetivos estratégicos.\nPROGRAMA\n9:00 horas: Acreditaciones. \n9:30 horas: Inauguración y presentación de la Jornada a cargo de: \n\n D. Manuel de Peralta Carrasco. Decano de la Facultad de Derecho de la Uex\n\n\n D. Francisco Lamoneda Díaz. Presidente de RAJYLEX\n\n\n D. Juan Antonio Pavón Pérez. Director Académico de las Jornada y Acádemico correspondiente de la RAJYLEX.\n\n\n Carlos Izquierdo de Tapia. Presidente de la Confederación Extremeña de la Construcción (CNC Extremadura).\n\n 10:00 horas:Primera Ponencia “Las patologías de la contratación pública del tiempo presente». \n\n Félix Plasencia Sánchez. Socio Cuatrecasas. Abogado del Estado en excedencia. Especialista en derecho público y sectores regulados.\n\n 10:45 horas:Segunda Ponencia «La contratación pública del futuro desde el derecho europeo y el derecho español.». \n\n Jaime Pintos Santiago. Consultor especializado en contratación pública. Doctor en Derecho. Abogado en ejercicio. Funcionario en excedencia.\n\n 11:30 horas: Pausa/café. \n 12:00 horas: Mesa Redonda Experiencial: «La situación actual de la contratación pública en Extremadura: La mirada de los profesionales». \nMesa Técnica: \n\n D. Jesús Torrecilla Pinero. Director de la Escuela Politécnica de la Universidad de Extremadura. “¿A quién beneficia la contratación pública actual? (¿Cui prodest?).\n Diego A. Salas Collazos. Presidente del Colegio Oficial de Aparejadores y Arquitectos Técnicos de Cáceres (COAAT). “La visión del COAAT en las licitaciones públicas en Extremadura”.\n Sebastián Sevilla Díaz. Vocal del Colegio de Ingenieros de Caminos\, Canales y Puertos.\nDª. María Jesús Bravo Gómez. Vicepresidenta primera del Colegio de Ingenieros Técnicos de Obras Públicas.\n Javier Merino Peláez. Arquitecto del COADE. «Los arquitectos ante los contratos de la Administración Pública».\n\n Mesa Jurídica: \n\n Juan Antonio Pavón Pérez. Profesor de Derecho Admnistrativo de la UEX y Director Académico de la Jornadas\n Javier de Manueles Muñoz. Presidente de la Comisión Jurídica de Extremadura. “El papel de la Comisión Jurídica de Extremadura como Tribunal de Recursos Contractuales”.\nDª. Carmen Bravo Díaz. Magistrada de la Sala de lo Contencioso-Administrativo del Tribunal Superior de Justicia de Extremadura. “La contratación pública extremeña desde el punto de vista jurisprudencial”.\nDª Marta Rodríguez Fernández. Asesora jurídica del Grupo Gévora.\n\n 13:30 horas: Ruegos y preguntas/Debate
URL:https://www.caminosextremadura.es/evento/jornada-repensar-la-contratacion-publica-del-futuroa-donde-vamos-a-quien-beneficia/
LOCATION:SALÓN DE ACTOS DE LA FACULTAD DE DERECHO DE LA UNIVERSIDAD DE EXTREMADURA\, Av. de las Letras\, s/n\, Norte\, 10004 (Campus Universitario)\, Cáceres\, CÁCERES\, Cáceres\, 10004\, España
CATEGORIES:Cursos propios,Otros Cursos
ORGANIZER;CN="CICCP Extremadura":MAILTO:caceres@ciccp.es
END:VEVENT
END:VCALENDAR