BEGIN:VCALENDAR
VERSION:2.0
PRODID:-//Caminos Extremadura - ECPv6.11.2//NONSGML v1.0//EN
CALSCALE:GREGORIAN
METHOD:PUBLISH
X-WR-CALNAME:Caminos Extremadura
X-ORIGINAL-URL:https://www.caminosextremadura.es
X-WR-CALDESC:Eventos para Caminos Extremadura
REFRESH-INTERVAL;VALUE=DURATION:PT1H
X-Robots-Tag:noindex
X-PUBLISHED-TTL:PT1H
BEGIN:VTIMEZONE
TZID:Europe/Madrid
BEGIN:DAYLIGHT
TZOFFSETFROM:+0100
TZOFFSETTO:+0200
TZNAME:CEST
DTSTART:20250330T010000
END:DAYLIGHT
BEGIN:STANDARD
TZOFFSETFROM:+0200
TZOFFSETTO:+0100
TZNAME:CET
DTSTART:20251026T010000
END:STANDARD
END:VTIMEZONE
BEGIN:VEVENT
DTSTART;TZID=Europe/Madrid:20250401T110000
DTEND;TZID=Europe/Madrid:20250401T140000
DTSTAMP:20260419T232824
CREATED:20250328T113521Z
LAST-MODIFIED:20250328T115239Z
UID:6030-1743505200-1743516000@www.caminosextremadura.es
SUMMARY:II JORNADA DE FIRMES OC 3/2024 y OC 1/2024
DESCRIPTION:FECHA: Martes 1 de Abril a las 11:00 h\nAULA MAGNA DE LA E.T.S. DE INGENIEROS DE CAMINOS DE SANTANDER\nSE PUEDE ASISTIR A LA JORNADA DE FORMA TELEMÁTICA PERO ES NECESARIO INSCRIPCIÓN PREVIA\nINSCRIPCIONES
URL:https://www.caminosextremadura.es/evento/ii-jornada-de-firmes-oc-3-2024-y-oc-1-2024/
LOCATION:Aula Magna. Escuela de Caminos de Santander\, Ada. de los Castros\, s/n\, Santander\, Cantabria\, España
CATEGORIES:Cursos propios,Otros Cursos
ATTACH;FMTTYPE=image/jpeg:https://www.caminosextremadura.es/wp-content/uploads/2025/03/JORNADA-FIRMES.jpg
ORGANIZER;CN="CICCP Extremadura":MAILTO:caceres@ciccp.es
END:VEVENT
END:VCALENDAR