BEGIN:VCALENDAR
VERSION:2.0
PRODID:-//Caminos Extremadura - ECPv6.11.2//NONSGML v1.0//EN
CALSCALE:GREGORIAN
METHOD:PUBLISH
X-ORIGINAL-URL:https://www.caminosextremadura.es
X-WR-CALDESC:Eventos para Caminos Extremadura
REFRESH-INTERVAL;VALUE=DURATION:PT1H
X-Robots-Tag:noindex
X-PUBLISHED-TTL:PT1H
BEGIN:VTIMEZONE
TZID:Europe/Madrid
BEGIN:DAYLIGHT
TZOFFSETFROM:+0100
TZOFFSETTO:+0200
TZNAME:CEST
DTSTART:20260329T010000
END:DAYLIGHT
BEGIN:STANDARD
TZOFFSETFROM:+0200
TZOFFSETTO:+0100
TZNAME:CET
DTSTART:20261025T010000
END:STANDARD
END:VTIMEZONE
BEGIN:VEVENT
DTSTART;TZID=Europe/Madrid:20260414T173000
DTEND;TZID=Europe/Madrid:20260414T190000
DTSTAMP:20260426T031644
CREATED:20260325T114017Z
LAST-MODIFIED:20260414T094638Z
UID:6292-1776187800-1776193200@www.caminosextremadura.es
SUMMARY:JORNADA FORMATIVA FINANCIERA
DESCRIPTION:La Escuela Politécnica de Cáceres\, la Demarcación de Extremadura del Colegio de Ingenieros de Caminos y la entidad CBNK\, Banco de Colectivos\, organizan una jornada dirigida tanto estudiantes de Ingeniería Civil e Ingeniería de Caminos\, Canales y Puertos como a ingenieros del sector\, en la que se analizará el contexto económico actual y las oportunidades que ofrecen los distintos mercados y activos financieros\, además de la financiación de empresas y proyectos de ingeniería.\nUna formación atractiva y muy interesante impartida por los responsables de las áreas de la gestora de fondos\, gestión patrimonial y del área de empresas de CBNK\, y dividida en dos bloques:\nBloque I: «2026\, Cómo invertir con criterio». Impartido por parte de los responsables de la gestora de fondo y de gestión patrimonial de CBNK . Se presentará un análisis claro y actualizado de los mercados\, así como de los sectores y activos más relevantes\, con el objetivo de identificar las mejores oportunidades de inversión para el 2026. En esta ocasión se analizará el actual escenario macroeconómico global\, revisaremos el impacto de los recientes conflictos en Oriente Medio y la situación en el estrecho de Ormuz sobre los mercados financieros recalcando la importancia de la diversificación y la gestión activa en los momentos de mayor incertidumbre de los mercados»\nBloque II: «Financiación de empresas y proyectos de ingeniería». Impartido por parte del responsable del área de empresas de CBNK \nFECHA: 14 de abril\nLUGAR: Salón de Grados – Edificio de Teleco – Escuela Politécnica de Cáceres\nHORARIO: 17:30 h a 19:00 h\nINSCRIPCIONES: 
URL:https://www.caminosextremadura.es/evento/jornada-formativa-financiera/
LOCATION:Escuela Politécnica de Cáceres\, Av. de la Universidad\, S/N\, Cáceres\, Cáceres\, 10003\, España
CATEGORIES:Cursos propios,Otros Cursos
ATTACH;FMTTYPE=image/jpeg:https://www.caminosextremadura.es/wp-content/uploads/2026/03/IMAGEN-REDUCIDA-portada.jpg
ORGANIZER;CN="CICCP Extremadura":MAILTO:caceres@ciccp.es
END:VEVENT
END:VCALENDAR