BEGIN:VCALENDAR
VERSION:2.0
PRODID:-//Caminos Extremadura - ECPv6.11.2//NONSGML v1.0//EN
CALSCALE:GREGORIAN
METHOD:PUBLISH
X-WR-CALNAME:Caminos Extremadura
X-ORIGINAL-URL:https://www.caminosextremadura.es
X-WR-CALDESC:Eventos para Caminos Extremadura
REFRESH-INTERVAL;VALUE=DURATION:PT1H
X-Robots-Tag:noindex
X-PUBLISHED-TTL:PT1H
BEGIN:VTIMEZONE
TZID:Europe/Madrid
BEGIN:DAYLIGHT
TZOFFSETFROM:+0100
TZOFFSETTO:+0200
TZNAME:CEST
DTSTART:20210328T010000
END:DAYLIGHT
BEGIN:STANDARD
TZOFFSETFROM:+0200
TZOFFSETTO:+0100
TZNAME:CET
DTSTART:20211031T010000
END:STANDARD
BEGIN:DAYLIGHT
TZOFFSETFROM:+0100
TZOFFSETTO:+0200
TZNAME:CEST
DTSTART:20220327T010000
END:DAYLIGHT
BEGIN:STANDARD
TZOFFSETFROM:+0200
TZOFFSETTO:+0100
TZNAME:CET
DTSTART:20221030T010000
END:STANDARD
BEGIN:DAYLIGHT
TZOFFSETFROM:+0100
TZOFFSETTO:+0200
TZNAME:CEST
DTSTART:20230326T010000
END:DAYLIGHT
BEGIN:STANDARD
TZOFFSETFROM:+0200
TZOFFSETTO:+0100
TZNAME:CET
DTSTART:20231029T010000
END:STANDARD
BEGIN:DAYLIGHT
TZOFFSETFROM:+0100
TZOFFSETTO:+0200
TZNAME:CEST
DTSTART:20240331T010000
END:DAYLIGHT
BEGIN:STANDARD
TZOFFSETFROM:+0200
TZOFFSETTO:+0100
TZNAME:CET
DTSTART:20241027T010000
END:STANDARD
END:VTIMEZONE
BEGIN:VEVENT
DTSTART;VALUE=DATE:20240206
DTEND;VALUE=DATE:20240322
DTSTAMP:20260425T224209
CREATED:20240125T100753Z
LAST-MODIFIED:20240125T100753Z
UID:5111-1707177600-1711065599@www.caminosextremadura.es
SUMMARY:Curso de Formación: "El Plan BIM en España en la Ingeniería de Caminos\, Canales y Puertos"
DESCRIPTION:  \nEL CICCP presenta El Plan BIM en España en la Ingeniería de Caminos\, Canales y Puertos\nCurso de 5 módulos (61 h) subvencionado por el Ministerio de Transportes y Movilidad Sostenible\n \nPROGRAMA\nINSCRIPCIONES\nCon este proyecto formativo\, el Ministerio de Trasportes\, Movilidad y Agenda Urbana busca divulgar de forma sectorial la estrategia BIM\, iniciada a nivel nacional con la reciente aprobación en el Consejo de Ministros con fecha de 27 de junio 2023 del Plan BIM España. \nEsta acción formativa en BIM de carácter avanzado\, está dirigido a profesionales que desarrollen su actividad en los sectores de la planificación\, ingeniería\, construcción\, conservación\, explotación\, etc\, tanto en el ámbito público como en el privado adaptado su trabajo a la realidad y necesidades actuales de entornos colaborativos. \nLa actividad formativa es un curso compuesto por cinco (5) módulos que combinan formación presencial (10 horas) y formación online (51 horas)\, pudiendo también optar por la formación íntegramente on line (61 horas). Este curso combina enfoques didácticos teóricos con sesiones prácticas de manejo de herramientas sencillas de visualización y coordinación de modelos BIM\, y de los entornos comunes de datos. \nCon esto se define un itinerario formativo iniciado `por un módulo general (MÓDULO 1) de acercamiento al BIM del Plan BIM España\, de carácter más global y divulgativo\, y con la posibilidad de asistencia presencial. Los otros cuatro módulos desarrollarán los cuatro pilares de la implantación BIM: estrategia\, procesos\, tecnología y personas. \nEl curso se impartirá a través de la plataforma FormaciónCAMINOS del Colegio de Ingenieros de Caminos\, Canales y Puertos\, con posibilidad de formación directa o ‘streaming’\, o bien grabado en la edición 100% online. \nA continuación se indica el calendario del curso: \nSesiones formativas presenciales (Módulo 1):  \n\nMadrid: 6 – 7 febrero presencial\nBilbao: 21 – 22 febrero streaming y presencial\nValencia: 12 – 13 marzo presencial\n\nSesiones on line (Módulos 2 a 4 y Curso completo on line): \n\nOnline: 20 – 21 marzo (en esta fecha estará disponible en nuestra plataforma el curso completo de 61 horas)\n\nEl coste del curso será el siguiente: \n\nMatrícula Ordinaria: 350 € (21% IVA incluido). \nMatrícula Colegiado CICCP: 250 € (21% IVA incluido)\nMatrícula Desempleado/Precolegiado CICCP: 100 € (21% IVA incluido)
URL:https://www.caminosextremadura.es/evento/curso-de-formacion-el-plan-bim-en-espana-en-la-ingenieria-de-caminos-canales-y-puertos/
LOCATION:Sede CICCP Madrid_ Auditorio Agustín de Betancourt\, C/ Almagro\,42 Bajo\, Madrid\, Cáceres\, 28010\, España
CATEGORIES:Cursos propios
ATTACH;FMTTYPE=image/jpeg:https://www.caminosextremadura.es/wp-content/uploads/2024/01/PLAN-BIM-2024.jpg
ORGANIZER;CN="CICCP Extremadura":MAILTO:caceres@ciccp.es
END:VEVENT
BEGIN:VEVENT
DTSTART;TZID=Europe/Madrid:20221011T090000
DTEND;TZID=Europe/Madrid:20221011T130000
DTSTAMP:20260425T224209
CREATED:20221005T090036Z
LAST-MODIFIED:20221005T094653Z
UID:4177-1665478800-1665493200@www.caminosextremadura.es
SUMMARY:JORNADA SOBRE SITUACIÓN DE LOS FONDOS NEXT GENERATION
DESCRIPTION:El Colegio de Ingenieros de Caminos\, Canales y Puertos junto con Banco Caminos te invitan el próximo 11 de octubre\, a partir de las 9 horas\, a la interesante «Jornada sobre la situación de los fondos Next Generation». \nContaremos con la presencia de Xavier Flores\, Secretario General de Infraestructuras del Ministerio de Transportes\, Movilidad y Agenda Urbana. \n\nTambién analizaremos la gestión de los fondos en una interesante mesa redonda con: \n\nJoan Franco\, Presidente de Tecniberia\nJulián Núñez\, Presidente de SEOPAN\nConcha Santos\, Presidenta de ANCI\nPedro Fernández\, Presidente de la CNC\nPablo Sáez\, Presidente de ACEX\n\n\n\n\nFECHA: 11 DE OCTUBRE\n\n\nHORARIO: 9:00 h a 13:00 h\nASISTENCIA: PRESENCIAL/TELEMÁTICA\nPROGRAMA\nINSCRIPCIONES\n \n \n 
URL:https://www.caminosextremadura.es/evento/jornada-sobre-situacion-de-los-fondos-next-generation/
LOCATION:Sede CICCP Madrid_ Auditorio Agustín de Betancourt\, C/ Almagro\,42 Bajo\, Madrid\, Cáceres\, 28010\, España
CATEGORIES:Cursos propios
ATTACH;FMTTYPE=image/jpeg:https://www.caminosextremadura.es/wp-content/uploads/2022/10/PG_ObservatorioV8_Pagina_1-scaled.jpg
END:VEVENT
BEGIN:VEVENT
DTSTART;TZID=Europe/Madrid:20220317T090000
DTEND;TZID=Europe/Madrid:20220317T143000
DTSTAMP:20260425T224209
CREATED:20220302T104314Z
LAST-MODIFIED:20220302T104942Z
UID:3710-1647507600-1647527400@www.caminosextremadura.es
SUMMARY:Jornada: "El Reto de la Ingeniería frente al Cambio Climático"
DESCRIPTION:El próximo 17 de marzo tendrá lugar esta interesante jornada\, organizada por el Comité Técnico de Agua\, Energía y Cambio Climático que preside Dª. Carmen de Andrés. \nPodrá seguirse de forma presencial en el Auditorio Agustín de Betancourt del Colegio de Ingenieros de Caminos\, Canales y Puertos (Madrid)\, o bien de forma telemática. \nINSCRIPCIONES \nPROGRAMA \n \nEn el evento analizaremos en tres mesas redondas\, las siguientes temáticas: \n\nDiagnosis y situación actual del cambio climático tras la COP 26\nVisión y perspectiva de la adaptación al cambio climático\nExpectativas y qué hacer desde los diferentes sectores económicos ante la adaptación al cambio climático\n\nContaremos para la inauguración de la Jornada con D. Hugo Morán\, Secretario de Estado de Medio Ambiente y para la clausura con D. Xavier Flores\, Secretario General de Infraestructuras.
URL:https://www.caminosextremadura.es/evento/jornada-el-reto-de-la-ingenieria-frente-al-cambio-climatico/
LOCATION:Sede CICCP Madrid_ Auditorio Agustín de Betancourt\, C/ Almagro\,42 Bajo\, Madrid\, Cáceres\, 28010\, España
CATEGORIES:Cursos propios
ATTACH;FMTTYPE=image/jpeg:https://www.caminosextremadura.es/wp-content/uploads/2022/03/2022-02-24-programa-Jornada-CAMBIO-CLIMATICO_Pagina_1-scaled.jpg
END:VEVENT
BEGIN:VEVENT
DTSTART;TZID=Europe/Madrid:20220315T180000
DTEND;TZID=Europe/Madrid:20220315T200000
DTSTAMP:20260425T224209
CREATED:20220311T125153Z
LAST-MODIFIED:20220311T125916Z
UID:3802-1647367200-1647374400@www.caminosextremadura.es
SUMMARY:CAMINOS CON UCRANIA
DESCRIPTION:Fecha: martes 15 de marzo\nJornada presencial y telemática\nInscríbete aquí\nPresentación del fondo solidario de la Fundación Caminos en colaboración con el Colegio de Ingenieros de Caminos\, Canales y Puertos. \nEl Colegio de Ingenieros de Caminos\, Canales y Puertos\, y la Fundación Caminos\, están comprometidos con la defensa de la paz y de los principios democráticos. \nEn esta jornada se presenta el fondo solidario con el que la Fundación Caminos\, en colaboración con el Colegio\, ayudará al pueblo ucraniano y al que también se podrán sumar los colegiados y ciudadanos interesados. \nEn la sesión intervendrán miembros de instituciones españolas y ucranianas así como ONGs que explicarán las necesidades actuales de la sociedad ucraniana y las maneras más eficaces para canalizar la ayuda humanitaria. \nApertura\nMiguel Ángel Carrillo – Presidente de la Fundación Caminos y del Colegio de Ingenieros de Caminos\, Canales y Puertos \nParticipan:\n\nMinisterio de Infraestructuras de Ucrania\nEmbajada de Ucrania en Madrid\nACNUR\nUnicef\nCruz Roja\nCáritas
URL:https://www.caminosextremadura.es/evento/caminos-con-ucrania/
LOCATION:Sede CICCP Madrid_ Auditorio Agustín de Betancourt\, C/ Almagro\,42 Bajo\, Madrid\, Cáceres\, 28010\, España
CATEGORIES:Cursos propios
ATTACH;FMTTYPE=image/jpeg:https://www.caminosextremadura.es/wp-content/uploads/2022/03/IMAGEN-UCRANIA-CAMINOS.jpg
END:VEVENT
BEGIN:VEVENT
DTSTART;TZID=Europe/Madrid:20220224T090000
DTEND;TZID=Europe/Madrid:20220224T140000
DTSTAMP:20260425T224209
CREATED:20220211T093213Z
LAST-MODIFIED:20220211T095252Z
UID:3676-1645693200-1645711200@www.caminosextremadura.es
SUMMARY:JORNADA TÉCNICA: "NORMATIVA ESTRUCTURAL Y GEOTÉCNICA EN LOS PROYECTOS DE LA DGC”
DESCRIPTION:ORGANIZADORES: CICCP y MITMA (DGC)\nFECHA: 24 de febrero.\nTipo de asistencia: Presencial y Remoto\n\nPROGRAMA DE LA JORNADA\n\n\nINSCRIPCIONES: Pincha aquí\n\nRESUMEN:\nEsta Jornada\, que integra aspectos estructurales y geotécnicos\, tiene por objeto dar una visión de conjunto del marco normativo a aplicar en los proyectos de la Red de Carreteras del Estado\, así como de las herramientas de ayuda que la Dirección General de Carreteras pone a disposición de la comunidad técnica para facilitar dicha aplicación. \nDesde marzo de 2019\, los puentes de nueva construcción\, la ampliación y refuerzo de estructuras existentes y las obras geotécnicas de la Red de Carreteras del Estado deben proyectarse con Eurocódigos\, de acuerdo con la orden circular 1/2019\, que da cumplimiento a la reglamentación europea en este campo. \nPor otro lado\, el 11 de noviembre de 2021 entró en vigor el Real Decreto 470/2021 por el que se aprueba el Código Estructural que\, de acuerdo con su disposición transitoria única\, deberá aplicarse a: \n• Los proyectos cuya orden de estudio sea posterior al 11 de noviembre de 2021\n• Las obras cuya construcción se inicie con posterioridad al 11 de noviembre de 2024 \nDentro del ámbito de aplicación del Código Estructural -las estructuras de hormigón\, de acero y mixtas-\, la disposición adicional segunda del RD 470/2021 se convierte en el punto de encuentro de ambos caminos: según dicha disposición\, el proyecto con Eurocódigos constituye una “alternativa para justificar que la estructura cumple las exigencias establecidas en el Código”. \nAdemás\, el Código Estructural contiene prescripciones relativas a otros aspectos\, adicionales y complementarios al contenido de los Eurocódigos\, que deben ser cumplidas. Este es el caso\, como indica la citada disposición adicional segunda\, de las prescripciones relativas a los materiales\, la durabilidad\, la ejecución\, el control de calidad y el mantenimiento. \n\n\n\nPRESENTACIÓN:\n\n\n\n• Miguel Ángel Carrillo. Presidente del CICCP\n• Javier Herrero. Director General de Carreteras\n• Rosario Cornejo. Directora Técnica DGC\n• Pablo Bueno. Presidente de Tecniberia \nPONENTES:\n• Pilar Crespo. Jefe de Área de Estructuras DGC\n• José Mª Goicolea. Catedrático UPM. Presidente UNE-CTN 140\n• José Simón-Talero. Director general Torroja Ingeniería. Presidente UNE-CTN 140/SC0 y SC1\n• Miguel Ortega. Director de Ingeniería IDEAM. Miembro del equipo redactor EN 1994\n• María João Freitas. Jefe de proyectos IDEAM\n• Álvaro Serrano. Director técnico MC2. Miembro del equipo redactor CEN TC 250-Horizontal Group of Bridges\n• Álvaro Parrilla. Jefe de Área de Geotecnia DGC\n• José Estaire. Jefe del Área Laboratorio de Geotecnia CEDEX. Miembro del equipo redactor EN 1997\n• Amadeo Benavent. Catedrático UPM. Miembro del equipo redactor EN 1998 \nUBICACIÓN: AUDITORIO BETANCOURT (Colegio de Ingenieros de Caminos\, Canales y Puertos)\n\n\n\n\nC/ Almagro\, 42\n28010 – Madrid\n(Metro RUBEN DARIO) \nDIRIGIDO A:\n\nProfesionales vinculados al proyecto y construcción de puentes y obras geotécnicas\, pertenecientes a empresas consultoras\, constructoras\, de control\, fabricantes de productos de construcción y a la Administración.
URL:https://www.caminosextremadura.es/evento/jornada-tecnica-normativa-estructural-y-geotecnica-en-los-proyectos-de-la-dgc/
LOCATION:Sede CICCP Madrid_ Auditorio Agustín de Betancourt\, C/ Almagro\,42 Bajo\, Madrid\, Cáceres\, 28010\, España
CATEGORIES:Cursos propios
ATTACH;FMTTYPE=image/jpeg:https://www.caminosextremadura.es/wp-content/uploads/2022/02/2022-02-04-programa-Jornada-Normativa-Estructural-DGC_Pagina_1-scaled.jpg
END:VEVENT
BEGIN:VEVENT
DTSTART;VALUE=DATE:20210921
DTEND;VALUE=DATE:20210922
DTSTAMP:20260425T224209
CREATED:20210913T110811Z
LAST-MODIFIED:20210915T183406Z
UID:3350-1632182400-1632268799@www.caminosextremadura.es
SUMMARY:JORNADA SOBRE GESTIÓN DEL AGUA: SOSTENIBILIDAD Y CAMBIO CLIMÁTICO.
DESCRIPTION:JORNADA SOBRE GESTIÓN DEL AGUA: SOSTENIBILIDAD Y CAMBIO CLIMÁTICO. EL AGUA; RETOS EN LAS MEJORAS DE LA GESTIÓN COMO EJE VERTEBRADOR\nJornada propuesta desde el Comité Técnico de Agua\, Energía y Medio Ambiente del CICCP\n\n\n\n\n\n\nFecha: 21 de septiembre de 9:00 h a 19:00 h \n\nTipo de asistencia: Presencial y Remoto\n\nObjetivo: Dar a conocer la importancia del AGUA en la sostenibilidad y el cambio climático \nDirigido a: Profesionales relacionados con el agua \nGratuita para colegiados \nVer PROGRAMA \n\n\nINSCRIPCIÓN\n\n\n\n\n 
URL:https://www.caminosextremadura.es/evento/jornada-sobre-gestion-del-agua-sostenibilidad-y-cambio-climatico/
LOCATION:Sede CICCP Madrid_ Auditorio Agustín de Betancourt\, C/ Almagro\,42 Bajo\, Madrid\, Cáceres\, 28010\, España
CATEGORIES:Cursos propios
ATTACH;FMTTYPE=image/jpeg:https://www.caminosextremadura.es/wp-content/uploads/2021/09/CTaguaseptiembre_linkinscripcion_Pagina_1.jpg
ORGANIZER;CN="CICCP Extremadura":MAILTO:caceres@ciccp.es
END:VEVENT
BEGIN:VEVENT
DTSTART;TZID=Europe/Madrid:20210519T100000
DTEND;TZID=Europe/Madrid:20210519T140000
DTSTAMP:20260425T224209
CREATED:20210514T100121Z
LAST-MODIFIED:20210517T095149Z
UID:3070-1621418400-1621432800@www.caminosextremadura.es
SUMMARY:Jornada de Seguimiento de los Fondos Next Generation EU. El camino hacia la recuperación económica
DESCRIPTION:El Observatorio de la Inversión en Obra Pública del Colegio de Caminos\, Canales y Puertos\,  presenta la ‘Jornada de seguimiento de los Fondos Next Generation UE’  \nParticipan entre otros intervinientes\, la Vicepresidenta Teresa Ribera Rodríguez y el Ministro de Transportes\, Movilidad y Agenda Urbana\, José Luis Ábalos Meco. \nMiércoles 19 de mayo de 2021 \n10:00 h \nPrograma:
URL:https://www.caminosextremadura.es/evento/jornada-de-seguimiento-de-los-fondos-next-generation-eu-el-camino-hacia-la-recuperacion-economica/
LOCATION:Sede CICCP Madrid_ Auditorio Agustín de Betancourt\, C/ Almagro\,42 Bajo\, Madrid\, Cáceres\, 28010\, España
ATTACH;FMTTYPE=image/jpeg:https://www.caminosextremadura.es/wp-content/uploads/2021/05/P19M_Sinbordes_Pagina_1.jpg
ORGANIZER;CN="CICCP Extremadura":MAILTO:caceres@ciccp.es
END:VEVENT
END:VCALENDAR