BEGIN:VCALENDAR
VERSION:2.0
PRODID:-//Caminos Extremadura - ECPv6.11.2//NONSGML v1.0//EN
CALSCALE:GREGORIAN
METHOD:PUBLISH
X-WR-CALNAME:Caminos Extremadura
X-ORIGINAL-URL:https://www.caminosextremadura.es
X-WR-CALDESC:Eventos para Caminos Extremadura
REFRESH-INTERVAL;VALUE=DURATION:PT1H
X-Robots-Tag:noindex
X-PUBLISHED-TTL:PT1H
BEGIN:VTIMEZONE
TZID:Europe/Madrid
BEGIN:DAYLIGHT
TZOFFSETFROM:+0100
TZOFFSETTO:+0200
TZNAME:CEST
DTSTART:20210328T010000
END:DAYLIGHT
BEGIN:STANDARD
TZOFFSETFROM:+0200
TZOFFSETTO:+0100
TZNAME:CET
DTSTART:20211031T010000
END:STANDARD
BEGIN:DAYLIGHT
TZOFFSETFROM:+0100
TZOFFSETTO:+0200
TZNAME:CEST
DTSTART:20220327T010000
END:DAYLIGHT
BEGIN:STANDARD
TZOFFSETFROM:+0200
TZOFFSETTO:+0100
TZNAME:CET
DTSTART:20221030T010000
END:STANDARD
BEGIN:DAYLIGHT
TZOFFSETFROM:+0100
TZOFFSETTO:+0200
TZNAME:CEST
DTSTART:20230326T010000
END:DAYLIGHT
BEGIN:STANDARD
TZOFFSETFROM:+0200
TZOFFSETTO:+0100
TZNAME:CET
DTSTART:20231029T010000
END:STANDARD
BEGIN:DAYLIGHT
TZOFFSETFROM:+0100
TZOFFSETTO:+0200
TZNAME:CEST
DTSTART:20240331T010000
END:DAYLIGHT
BEGIN:STANDARD
TZOFFSETFROM:+0200
TZOFFSETTO:+0100
TZNAME:CET
DTSTART:20241027T010000
END:STANDARD
END:VTIMEZONE
BEGIN:VEVENT
DTSTART;TZID=Europe/Madrid:20240620T173000
DTEND;TZID=Europe/Madrid:20240620T193000
DTSTAMP:20260425T154439
CREATED:20240618T101005Z
LAST-MODIFIED:20240618T101006Z
UID:5843-1718904600-1718911800@www.caminosextremadura.es
SUMMARY:Curso Especialista en Urbanismo Universidad de Extremadura
DESCRIPTION:FORMULARIO INSCRIPCIÓN JORNADA INAUGURAL\nFORMULARIO INSCRIPCIÓN EN LA IV EDICIÓN DEL CURSO DE URBANISMO\n \n\n  \n 
URL:https://www.caminosextremadura.es/evento/curso-especialista-en-urbanismo-universidad-de-extremadura/
LOCATION:Sala Malinche (Complejo Cultural San Francisco. Cáceres)\, Rda. de San Francisco\, 15\, Centro\,\, Cáceres\, Cáceres\, 10002\, España
CATEGORIES:Cursos propios,Otros Cursos
ORGANIZER;CN="CICCP Extremadura":MAILTO:caceres@ciccp.es
GEO:39.4647099;-6.3855286
X-APPLE-STRUCTURED-LOCATION;VALUE=URI;X-ADDRESS=Sala Malinche (Complejo Cultural San Francisco. Cáceres) Rda. de San Francisco 15 Centro Cáceres Cáceres 10002 España;X-APPLE-RADIUS=500;X-TITLE=Rda. de San Francisco\, 15\, Centro\,:geo:-6.3855286,39.4647099
END:VEVENT
BEGIN:VEVENT
DTSTART;VALUE=DATE:20240411
DTEND;VALUE=DATE:20240412
DTSTAMP:20260425T154439
CREATED:20240409T082706Z
LAST-MODIFIED:20240409T082706Z
UID:5173-1712793600-1712879999@www.caminosextremadura.es
SUMMARY:JORNADA CICLO INTEGRAL DEL AGUA_DIPUTACIÓN DE CÁCERES
DESCRIPTION:FECHA: JUEVES 11 DE ABRIL DE 2024 \nLUGAR: COMPLEJO CULTURAL SAN FRANCISCO.CÁCERES (SALA MALINCHE) \nINCRIPCIONES \nPROGRAMA
URL:https://www.caminosextremadura.es/evento/jornada-ciclo-integral-del-agua_diputacion-de-caceres/
LOCATION:Sala Malinche (Complejo Cultural San Francisco. Cáceres)\, Rda. de San Francisco\, 15\, Centro\,\, Cáceres\, Cáceres\, 10002\, España
CATEGORIES:Otros Cursos
ORGANIZER;CN="CONSORCIO M%C3%81S MEDIO (DIPUTACI%C3%93N DE C%C3%81CERES)":MAILTO:info@masmedio.es
GEO:39.4647099;-6.3855286
X-APPLE-STRUCTURED-LOCATION;VALUE=URI;X-ADDRESS=Sala Malinche (Complejo Cultural San Francisco. Cáceres) Rda. de San Francisco 15 Centro Cáceres Cáceres 10002 España;X-APPLE-RADIUS=500;X-TITLE=Rda. de San Francisco\, 15\, Centro\,:geo:-6.3855286,39.4647099
END:VEVENT
BEGIN:VEVENT
DTSTART;TZID=Europe/Madrid:20210923T093000
DTEND;TZID=Europe/Madrid:20210923T113000
DTSTAMP:20260425T154439
CREATED:20210914T111301Z
LAST-MODIFIED:20210914T111301Z
UID:3384-1632389400-1632396600@www.caminosextremadura.es
SUMMARY:Webinar Gratuito: " ADAPTACIÓN AL RIESGO DE INUNDACIONES"
DESCRIPTION:Fecha: 23 de septimbre de 9:30 h a 11:30 h \nFormato: On line \nOrganiza: Comité de Agua Energía y CC del CICCP en colaboración con el MITECO \nINSCRIPCIÓN
URL:https://www.caminosextremadura.es/evento/webinar-gratuito-adaptacion-al-riesgo-de-inundaciones/
LOCATION:Sala Malinche (Complejo Cultural San Francisco. Cáceres)\, Rda. de San Francisco\, 15\, Centro\,\, Cáceres\, Cáceres\, 10002\, España
CATEGORIES:Cursos propios
ORGANIZER;CN="CICCP Madrid":MAILTO:cursoscaminosmadrid@ciccp.es
GEO:39.4647099;-6.3855286
X-APPLE-STRUCTURED-LOCATION;VALUE=URI;X-ADDRESS=Sala Malinche (Complejo Cultural San Francisco. Cáceres) Rda. de San Francisco 15 Centro Cáceres Cáceres 10002 España;X-APPLE-RADIUS=500;X-TITLE=Rda. de San Francisco\, 15\, Centro\,:geo:-6.3855286,39.4647099
END:VEVENT
BEGIN:VEVENT
DTSTART;TZID=Europe/Madrid:20210630T100000
DTEND;TZID=Europe/Madrid:20210630T110000
DTSTAMP:20260425T154439
CREATED:20210621T085347Z
LAST-MODIFIED:20210621T085347Z
UID:3323-1625047200-1625050800@www.caminosextremadura.es
SUMMARY:WEBINAR "FUNDAMENTOS DEL BIM EN CARRETERAS"
DESCRIPTION:Fecha: 30 de junio\nEnlace inscripción:\nDuración: 60 min\nLa Asociación Española de la Carretera (AEC) y Autodesk organizan el próximo 30 de junio un webinar con el título “Fundamentos del BIM para carreteras”. El objetivo no es otro que profundizar en las aplicaciones de la metodología BIM en el ámbito de las infraestructuras viarias. \nLa metodología BIM favorece cada uno de los aspectos del proceso de planificación\, diseño y construcción de carreteras y autopistas\, permitiendo crear modelos 3D inteligentes y tremendamente detallados del proyecto antes de que éste se construya\, reduciendo así los riesgos que inciden en la previsibilidad\, la fiabilidad y la calidad\, y acotando significativamente los costes del proyecto. \nEn este marco\, las cuestiones que se analizarán en el webinar\, que podrá seguirse desde la Plataforma de Formación Online de la AEC\, son: \n\nLa metodología BIM y su aplicación en carreteras e infraestructuras\nLos beneficios de su implementación:\nEl Software BIM dedicado a infraestructuras\nCDE – Common Data Environment\n\nPara más información\, se ruega contactar con el responsable de formación y Director Técnico de la AEC\, Enrique Miralles (emiralles@aecarretera.com
URL:https://www.caminosextremadura.es/evento/webinar-fundamentos-del-bim-en-carreteras/
LOCATION:Sala Malinche (Complejo Cultural San Francisco. Cáceres)\, Rda. de San Francisco\, 15\, Centro\,\, Cáceres\, Cáceres\, 10002\, España
ATTACH;FMTTYPE=image/png:https://www.caminosextremadura.es/wp-content/uploads/2021/06/BIM-CARRETERAS_AEC.png
ORGANIZER;CN="CICCP Extremadura":MAILTO:caceres@ciccp.es
GEO:39.4647099;-6.3855286
X-APPLE-STRUCTURED-LOCATION;VALUE=URI;X-ADDRESS=Sala Malinche (Complejo Cultural San Francisco. Cáceres) Rda. de San Francisco 15 Centro Cáceres Cáceres 10002 España;X-APPLE-RADIUS=500;X-TITLE=Rda. de San Francisco\, 15\, Centro\,:geo:-6.3855286,39.4647099
END:VEVENT
BEGIN:VEVENT
DTSTART;TZID=Europe/Madrid:20210624T093000
DTEND;TZID=Europe/Madrid:20210624T143000
DTSTAMP:20260425T154439
CREATED:20210616T091250Z
LAST-MODIFIED:20210616T092019Z
UID:3290-1624527000-1624545000@www.caminosextremadura.es
SUMMARY:CURSO ON LINE: FUNDAMENTOS DEL NUEVO DB-HE 2019 Y CERTIFICACIÓN ENERGÉTICA
DESCRIPTION:Curso on line: “Fundamentos del nuevo DB-HE 2019 y certificación energética”\nHerramientas y análisis de casos en la normativa de eficiencia energética.  \n \nPROGRAMA \nINSCRIPCIÓN\nFecha inicio: 24 de junio\nCurso enteramente a distancia:\n• Una (1) sesión teórica inicial online de 4\,5h de duración\n• Tres (3) sesiones prácticas online de 1\,5h cada una de duración\n• Sesiones prácticas con contenido en vídeo pregrabado (7h de vídeo\, para aproximadamente 15h de prácticas) \nPrimera sesión\, el jueves 24 de junio\, de 9:30h a 14:30h\nSesiones prácticas\, los jueves 1\, 8 y 15 de Julio\, de 16:30 a 18:00h \nSINOPSIS\nLa actualización del CTE en diciembre de 2019\, a través de la publicación del RD 732/2019\, ha supuesto una importante modificación del Documento Básico de Ahorro de Energía DB HE\, que\, en cumplimiento de las directivas europeas\, impone una reducción del consumo de energía y establece las bases de definición de los Edificios de Consumo de Energía Casi Nulo. \nEl presente curso aborda los principales cambios acontecidos en la normativa de eficiencia energética y pone a disposición de los alumnos las herramientas necesarias para el análisis de los casos más comunes que pueden encontrar en su labor profesional. \nA través del análisis de 3 casos prácticos de uso residencial en la Herramienta Unificada Lider-Calener (HULC)\, el curso aborda los\ncondicionantes de diseño que tienen mayor influencia en la consecución de las exigencias del CTE HE\, y propone estrategias de cumplimiento tanto en la envolvente del edificio como en sus instalaciones\, incluyendo la necesidad de disponer fuentes de energía renovable. \n¿A quién va dirigido? Profesionales de la edificación (arquitectos\, arquitectos técnicos\, ingenieros e ingenieros técnicos\, principalmente) familiarizados con la eficiencia energética que quieran actualizar sus conocimientos a la últimas novedades del CTE DB-HE y aprender o mejorar su manejo de la Herramienta Unificada LIDER-CALENER (HULC). \nProfesorado\n•Rafael Villar Burke\, IETcc-CSIC (El nuevo DB-HE 2019)\n•Marta Sorribes Gil\, IETcc-CSIC (Herramientas para la evaluación de la eficiencia energética)\n•Daniel Jiménez González\, IETcc-CSIC (Herramientas para la evaluación de la eficiencia energética)\n•Óscar Redondo Rivera\, Arquitecto (Sesiones prácticas)
URL:https://www.caminosextremadura.es/evento/fundamentos-del-nuevo-db-he-2019-y-certificacion-energetica/2021-06-24/
LOCATION:Sala Malinche (Complejo Cultural San Francisco. Cáceres)\, Rda. de San Francisco\, 15\, Centro\,\, Cáceres\, Cáceres\, 10002\, España
CATEGORIES:Otros Cursos
ATTACH;FMTTYPE=image/jpeg:https://www.caminosextremadura.es/wp-content/uploads/2021/06/ef_ener.jpg
ORGANIZER;CN="CICCP Extremadura":MAILTO:caceres@ciccp.es
GEO:39.4647099;-6.3855286
X-APPLE-STRUCTURED-LOCATION;VALUE=URI;X-ADDRESS=Sala Malinche (Complejo Cultural San Francisco. Cáceres) Rda. de San Francisco 15 Centro Cáceres Cáceres 10002 España;X-APPLE-RADIUS=500;X-TITLE=Rda. de San Francisco\, 15\, Centro\,:geo:-6.3855286,39.4647099
END:VEVENT
BEGIN:VEVENT
DTSTART;TZID=Europe/Madrid:20210621T100000
DTEND;TZID=Europe/Madrid:20210621T110000
DTSTAMP:20260425T154439
CREATED:20210603T092338Z
LAST-MODIFIED:20210603T093538Z
UID:3238-1624269600-1624273200@www.caminosextremadura.es
SUMMARY:VENTAJAS DE LA DIGITALIZACIÓN EN CONSTRUCCIÓN Y EXPLOTACIÓN DE INFRAESTRUCTURAS
DESCRIPTION:Gemelo Digital-Construcción y Explotación de Infraestructuras\nModalidad:\n\nWebinar Gratuito\n\nFechas y horarios:\n\n\nVentajas de la digitalización en construcción y explotación de infraestructuras.\n\n\n\nLunes 21 de junio\, de 10 a 11:00 h.\nENLACE :https://us02web.zoom.us/j/83264640296.\n\n\n\nProfesorado:\n\nIsabel Gutiérrez López • Responsable de Construcción Digital de proyectos de obra civil\, carreteras y ferrocarriles • FERROVIAL\n\nMatrícula:\n\nGratuita\n\nInscripción:\n\nRellenar formulario.\nFecha límite: 18 de junio\nPlazas: 100
URL:https://www.caminosextremadura.es/evento/ventajas-de-la-digitalizacion-en-construccion-y-explotacion-de-infraestructuras/
LOCATION:Sala Malinche (Complejo Cultural San Francisco. Cáceres)\, Rda. de San Francisco\, 15\, Centro\,\, Cáceres\, Cáceres\, 10002\, España
CATEGORIES:Otros Cursos
ATTACH;FMTTYPE=image/jpeg:https://www.caminosextremadura.es/wp-content/uploads/2021/06/Gemelo-Digital.jpg
ORGANIZER;CN="CICCP Extremadura":MAILTO:caceres@ciccp.es
GEO:39.4647099;-6.3855286
X-APPLE-STRUCTURED-LOCATION;VALUE=URI;X-ADDRESS=Sala Malinche (Complejo Cultural San Francisco. Cáceres) Rda. de San Francisco 15 Centro Cáceres Cáceres 10002 España;X-APPLE-RADIUS=500;X-TITLE=Rda. de San Francisco\, 15\, Centro\,:geo:-6.3855286,39.4647099
END:VEVENT
BEGIN:VEVENT
DTSTART;TZID=Europe/Madrid:20210609T090000
DTEND;TZID=Europe/Madrid:20210609T110000
DTSTAMP:20260425T154439
CREATED:20210527T081950Z
LAST-MODIFIED:20210527T082825Z
UID:3197-1623229200-1623236400@www.caminosextremadura.es
SUMMARY:JORNADA NUEVO CATÁLOGO DE FIRMES DE CANARIAS CSFC-20
DESCRIPTION:El dimensionamiento de los firmes de carreteras en Canarias ha estado regulado por la normativa del Estado\, diseñada para el ámbito de la Red de Carreteras del Estado\, a través de la Norma 6.1- IC ‘Secciones de firme’\, de la Instrucción de Carreteras\, aprobada por Orden FOM/3460/2003\, de 28 de noviembre. También por la normativa europea\, Orden Circular 24/2008 para mezclas bituminosas y Orden Circular 29/2011 para ligantes bituminosos y aglomerados en frío. \nLas particularidades de la red viaria canaria determinadas por su clima\, la distribución insular de su tráfico\, su orografía y geología heterogéneas\, así como los materiales disponibles\, han fundamentado la necesidad de desarrollar una normativa propia de dimensionamiento de firmes\, aprovechando la experiencia acumulada por los técnicos de las diversas Administraciones encargadas de la ejecución\, explotación y conservación de la red de carreteras\, además de los investigadores canarios que atesoran una larga trayectoria en el estudio de su comportamiento. \n\n\nObjetivo\nEl pasado 19 de marzo de 2021 se publicó en el BOC el “Catálogo de Secciones de Firme para la red de carreteras de Canarias (CSFC-20)”.La presente jornada pondrá de manifiesto las singularidades del Catálogo con respecto a la Norma 6.1-IC incluyendo ejemplos de aplicación. \nINSCRIPCIÓN\nTipo de asistencia:  Remoto \n\nDocentes / Ponentes\n\nPRESENTACIÓN Y CLAUSURA \nD. Gustavo Santana Hernández – Viceconsejero de Infraestructuras y Transportes del Gobierno de Canarias\nD. Emilio José Grande de Azpeitia – Decano de la Demarcación de S.C. de Tenerife del Colegio de Ingenieros de Caminos\, Canales y Puertos\nD. Julio Rodríguez Márquez – Decano de la Demarcación de Las Palmas del Colegio de Ingenieros de Caminos\, Canales y Puertos \nPONENTES \nDr. Miguel Ángel Franesqui – Profesor Titular de Universidad. Departamento de Ingeniería Civil de la ULPGC\nD. Javier Jubera Pérez – Jefe de Servicio de Laboratorios y Calidad de la Construcción. Gobierno de Canarias
URL:https://www.caminosextremadura.es/evento/jornada-nuevo-catalogo-de-firmes-de-canarias-csfc-20/
LOCATION:Sala Malinche (Complejo Cultural San Francisco. Cáceres)\, Rda. de San Francisco\, 15\, Centro\,\, Cáceres\, Cáceres\, 10002\, España
CATEGORIES:Otros Cursos
ATTACH;FMTTYPE=image/jpeg:https://www.caminosextremadura.es/wp-content/uploads/2021/05/kisspng-highway-road-clip-art-cartoon-hand-painted-curved-road-png-5a86f54aaf24a9.6876336115187940587174.jpg
ORGANIZER;CN="CICCP Extremadura":MAILTO:caceres@ciccp.es
GEO:39.4647099;-6.3855286
X-APPLE-STRUCTURED-LOCATION;VALUE=URI;X-ADDRESS=Sala Malinche (Complejo Cultural San Francisco. Cáceres) Rda. de San Francisco 15 Centro Cáceres Cáceres 10002 España;X-APPLE-RADIUS=500;X-TITLE=Rda. de San Francisco\, 15\, Centro\,:geo:-6.3855286,39.4647099
END:VEVENT
END:VCALENDAR