BEGIN:VCALENDAR
VERSION:2.0
PRODID:-//Caminos Extremadura - ECPv6.11.2//NONSGML v1.0//EN
CALSCALE:GREGORIAN
METHOD:PUBLISH
X-ORIGINAL-URL:https://www.caminosextremadura.es
X-WR-CALDESC:Eventos para Caminos Extremadura
REFRESH-INTERVAL;VALUE=DURATION:PT1H
X-Robots-Tag:noindex
X-PUBLISHED-TTL:PT1H
BEGIN:VTIMEZONE
TZID:Europe/Madrid
BEGIN:DAYLIGHT
TZOFFSETFROM:+0100
TZOFFSETTO:+0200
TZNAME:CEST
DTSTART:20220327T010000
END:DAYLIGHT
BEGIN:STANDARD
TZOFFSETFROM:+0200
TZOFFSETTO:+0100
TZNAME:CET
DTSTART:20221030T010000
END:STANDARD
END:VTIMEZONE
BEGIN:VEVENT
DTSTART;VALUE=DATE:20220921
DTEND;VALUE=DATE:20220924
DTSTAMP:20260426T051007
CREATED:20220711T105426Z
LAST-MODIFIED:20220711T105426Z
UID:4129-1663718400-1663977599@www.caminosextremadura.es
SUMMARY:CURSO DE VERANO “ACCESIBILIDAD UNIVERSAL\, INCLUSIÓN SOCIAL Y PALANCA DE CAMBIO HACIA LA IGUALDAD”
DESCRIPTION:La Dirección General de Accesibilidad y Centros de la Vicepresidencia Segunda y Consejería de Sanidad y Servicios Sociales de la Junta de Extremadura\, organiza el Curso de Verano “ACCESIBILIDAD UNIVERSAL\, INCLUSIÓN SOCIAL Y PALANCA DE CAMBIO HACIA LA IGUALDAD” \nFECHA:  del 21 al 23 de Septiembre de 2022 \nFORMATO: Presencial y On-Line \nLUGAR: Monasterio de Yuste\, en Cuacos de Yuste\, en formato presencial (aproximadamente 40 profesionales de diferentes materias)\, con la posibilidad de realizarse también On-line. \nOBJETIVOS: \nEste curso tiene como objetivo general la formación\, concienciación y difusión de conocimientos\, en materia de accesibilidad universal\, igualdad de oportunidades e inclusión social\, entre estudiantes y profesionales provenientes de las diversas ramas disciplinares. \nSe pretende transmitir las nociones necesarias para concebir entornos\, procesos\, bienes o productos\, que sean compresibles\, utilizables y practicables por todas las personas en condiciones de seguridad\, comodidad\, de la forma más autónoma y natural posible\, en todos los aspectos sociales de la vida. \nLa accesibilidad universal\, como símbolo de la inclusión plena\, es la condición necesaria para conseguir una sociedad más justa y solidaria. \nA continuación puede consultar el Programa y la inscripción al Curso: \nPROGRAMA \nINSCRIPCIÓN
URL:https://www.caminosextremadura.es/evento/curso-de-verano-accesibilidad-universal-inclusion-social-y-palanca-de-cambio-hacia-la-igualdad/
LOCATION:Monasterio de San Jerónimo de Yuste\, Carretera de Yuste\, s/n\, Cuacos de Yuste\, Cáceres\, 10430\, España
CATEGORIES:Otros Cursos
ATTACH;FMTTYPE=image/jpeg:https://www.caminosextremadura.es/wp-content/uploads/2022/07/PORTADA-CURSO-DE-VERANO_ACCESIBILIDAD-UNIVERSAL_Pagina_1.jpg
END:VEVENT
END:VCALENDAR