BEGIN:VCALENDAR
VERSION:2.0
PRODID:-//Caminos Extremadura - ECPv6.11.2//NONSGML v1.0//EN
CALSCALE:GREGORIAN
METHOD:PUBLISH
X-WR-CALNAME:Caminos Extremadura
X-ORIGINAL-URL:https://www.caminosextremadura.es
X-WR-CALDESC:Eventos para Caminos Extremadura
REFRESH-INTERVAL;VALUE=DURATION:PT1H
X-Robots-Tag:noindex
X-PUBLISHED-TTL:PT1H
BEGIN:VTIMEZONE
TZID:Europe/Madrid
BEGIN:DAYLIGHT
TZOFFSETFROM:+0100
TZOFFSETTO:+0200
TZNAME:CEST
DTSTART:20210328T010000
END:DAYLIGHT
BEGIN:STANDARD
TZOFFSETFROM:+0200
TZOFFSETTO:+0100
TZNAME:CET
DTSTART:20211031T010000
END:STANDARD
END:VTIMEZONE
BEGIN:VEVENT
DTSTART;TZID=Europe/Madrid:20210615T183000
DTEND;TZID=Europe/Madrid:20210615T200000
DTSTAMP:20260423T195222
CREATED:20210614T124232Z
LAST-MODIFIED:20210614T124232Z
UID:3277-1623781800-1623787200@www.caminosextremadura.es
SUMMARY:CAMINOS EN EL DEBATE_ 1ª JORNADA SOBRE PAGO POR USO DE LAS CARRETERAS
DESCRIPTION:CICLO CAMINOS EN EL DEBATE\n«Caminos en el Debate» es un nuevo Ciclo de Jornadas de Debate organizado por la  Asociación de Ingenieros de Caminos\, Canales y Puertos \nLa Jornada inaugural estará dedicada al «PAGO POR USO DE LAS CARRETERAS» \nContará con destacados expertos y experiencias internacionales en Europa y América\, en 4 bloques diferenciados: \n1. Financiación de las Carreteras.\n2. ¿Qué tipos de Modelos se podrían implantar?\n3. Competitividad y Afección al Sector del Transporte.\n4. Oportunidades para los ICCP. \nFecha: Martes 15\nHora: 18:00 horas.\nINSCRIPCIÓN: https://docs.google.com/forms/d/e/1FAIpQLScG5RiIy_o9ohYfvitbQ_osaMFXhF7Y87qe7BNV8CqabensfA/viewform \nPROGRAMA: https://t.co/TSRmgjdY7g?amp=1\nModera: Almudena Leal Gomis  Vocal de la Junta Directiva de la Asociación de Ingenieros de Caminos\, Canales y Puertos \nParticipan: \nJavier Herrero. DG Carreteras. MITMA.\nConcha Santos. Presidenta de ANCI\nJosé Manuel Vassallo Universidad Politécnica Madrid.\nJosé María Pérez Revenga Presidente Asociación Española del Transporte\nÁngel Sampedro Rodríguez. Universidad Alfonso X El Sabio\nXavier Abadia Perez CEO. Mobility \nLas experiencias Internacionales las aportarán:\nMiguel Caso Flórez. Director Técnico de la Asociación Mundial de la Carretera.\nJuan Pablo Chávez Q. Gerente de Ruta Maipo. Chile.\nJavier Martinez-CINTRA Ferrovial
URL:https://www.caminosextremadura.es/evento/caminos-en-el-debate_-1a-jornada-sobre-pago-por-uso-de-las-carreteras/
LOCATION:Instituto de la Ingeniería de España\, C/ General Arrando\, 38\, Madrid\, Madrid
CATEGORIES:Otros Cursos
ATTACH;FMTTYPE=image/jpeg:https://www.caminosextremadura.es/wp-content/uploads/2021/06/PROGRAMA_15_JUNIO_A4-1_Pagina_1-scaled.jpg
ORGANIZER;CN="CICCP Extremadura":MAILTO:caceres@ciccp.es
END:VEVENT
BEGIN:VEVENT
DTSTART;TZID=Europe/Madrid:20210309T180000
DTEND;TZID=Europe/Madrid:20210309T210000
DTSTAMP:20260423T195222
CREATED:20210309T112154Z
LAST-MODIFIED:20210309T112504Z
UID:2793-1615312800-1615323600@www.caminosextremadura.es
SUMMARY:Jornada Debate sobre el nuevo puente en Alcántara
DESCRIPTION:INSCRÍBETE AQUÍ\nPROGRAMA \n\nInauguración\nJosé Trigueros Rodrigo\, Presidente de la Asociación de Ing. De Caminos\nJulio Martínez Calzón\, Doctor Ingeniero de Caminos\, C. y P. Moderador de la jornada\nMesa 1: Nuevo puente de la carretera EX-117 sobre el Tajo\nPedro Rodríguez Izquierdo\, Ingeniero de Caminos\, C. y P. Director del Proyecto.\nRamón Sánchez de León\, Ingeniero de Caminos\, C. y P. Autor del proyecto\nGonzalo Ruiz López\, Catedrático de la ETSI Caminos\, C. y P. — UCLM\nMesa 2: Consideraciones sobre el puente romano de Alcántara\nRafael Mata Olmo\, Catedrático de la Universidad Autónoma de Madrid\nManuel Durán Fuentes\, Doctor Ingeniero de Caminos\, C. y P.\nDaniel Crespo Delgado\, Doctor en Historia del Arte. Fundación Juanelo Turriano\nDebate\n\nEntrada libre hasta completar aforo. También se podrá seguir en streaming.
URL:https://www.caminosextremadura.es/evento/jornada-debate-sobre-el-nuevo-puente-en-alcantara/
LOCATION:Instituto de la Ingeniería de España\, C/ General Arrando\, 38\, Madrid\, Madrid
CATEGORIES:Otros Cursos
ATTACH;FMTTYPE=image/jpeg:https://www.caminosextremadura.es/wp-content/uploads/2021/03/Jornada-Puente-de-Alcantara.jpg
ORGANIZER;CN="Asociaci%C3%B3n de Ingenieros de Caminos%2C Canales y Puertos y de la Ingenier%C3%ADa Civil":MAILTO:aic@ingenieria-civil.org
END:VEVENT
END:VCALENDAR