BEGIN:VCALENDAR
VERSION:2.0
PRODID:-//Caminos Extremadura - ECPv6.11.2//NONSGML v1.0//EN
CALSCALE:GREGORIAN
METHOD:PUBLISH
X-WR-CALNAME:Caminos Extremadura
X-ORIGINAL-URL:https://www.caminosextremadura.es
X-WR-CALDESC:Eventos para Caminos Extremadura
REFRESH-INTERVAL;VALUE=DURATION:PT1H
X-Robots-Tag:noindex
X-PUBLISHED-TTL:PT1H
BEGIN:VTIMEZONE
TZID:Europe/Madrid
BEGIN:DAYLIGHT
TZOFFSETFROM:+0100
TZOFFSETTO:+0200
TZNAME:CEST
DTSTART:20220327T010000
END:DAYLIGHT
BEGIN:STANDARD
TZOFFSETFROM:+0200
TZOFFSETTO:+0100
TZNAME:CET
DTSTART:20221030T010000
END:STANDARD
END:VTIMEZONE
BEGIN:VEVENT
DTSTART;TZID=Europe/Madrid:20220707T110000
DTEND;TZID=Europe/Madrid:20220707T133000
DTSTAMP:20260419T104535
CREATED:20220704T114923Z
LAST-MODIFIED:20220704T114933Z
UID:4100-1657191600-1657200600@www.caminosextremadura.es
SUMMARY:JORNADA SOBRE EL NUEVO CÓDIGO ESTRUCTURAL EN CÁCERES
DESCRIPTION:En noviembre de 2021 entró en vigor el Nuevo Código Estructural\, que es la norma que regula el diseño y construcción de estructuras y edificios. \nCNC Extremadura\, junto con la Asociación Nacional Española de Fabricantes de Hormigón Preparado.-ANEFHOP.-\, va a realizar una jornada para la difusión de las novedades técnicas de esta nueva norma\, de interés de Constructoras\, Arquitectos\, Ingenieros\, Administraciones Públicas… \nLos ponentes han participado en los grupos de trabajo para desarrollar esta normativa nueva que se presenta. \nFecha: Jueves 7 de julio de 2022 \nHorario: de 11:00 h a 13:30 h \nLugar: Instalaciones de la Fundación Laboral de la Construcción de Cáceres. \nPROGRAMA:  \nINSCRIPCIONES: cncextremadura@cncextremadura.com
URL:https://www.caminosextremadura.es/evento/jornada-sobre-el-nuevo-codigo-estructural-en-caceres/
LOCATION:Fundación Laboral de la Construcción (Cáceres)\, C/ Ocho de Marzo s/n\, Polígono\, Cáceres\, Cáceres\, 10004\, España
CATEGORIES:Cursos propios,Otros Cursos
ATTACH;FMTTYPE=image/jpeg:https://www.caminosextremadura.es/wp-content/uploads/2021/11/istockphoto-1154359331-612x612-1.jpg
END:VEVENT
BEGIN:VEVENT
DTSTART;TZID=Europe/Madrid:20220404T180000
DTEND;TZID=Europe/Madrid:20220406T230000
DTSTAMP:20260419T104535
CREATED:20220330T182310Z
LAST-MODIFIED:20220331T080207Z
UID:3873-1649095200-1649286000@www.caminosextremadura.es
SUMMARY:INTRODUCCIÓN A LA METODOLOGÍA BIM
DESCRIPTION:CURSO “INTRODUCCIÓN A LA METODOLOGÍA BIM” DE LA FUNDACIÓN LABORAL DE LA CONSTRUCCIÓN\nLa metodología BIM está suponiendo una verdadera revolución tecnológica para la cadena de producción y gestión de la construcción\, ayudando a construir de manera más eficiente\, reduciendo costes y tiempo\, si todos los implicados en el proceso (profesionales de proyectos\, constructoras\, promotoras y demás agentes) trabajan de manera colaborativa.\nBIM está basada en la creación y gestión de un modelo 3D inteligente o maqueta virtual que permite integrar todas las   disciplinas que componen un proyecto de edificación o infraestructura.\n \nFechas: Del 4 al 6 de Abril\nDuración: 15 horas\nHorario: De  16:00 h a 21:00 h\nLugar: Fundación Laboral de la Construcción (Cáceres)\nFormación subvencionable\nDirigido a: Trabajadores laborales o Autónomos del sector.\nPROGRAMA\nPlazas limitadas: Por orden de inscripción \nINSCRIPCIONES: Enviar la solicitud adjunta firmada y copia del recibo de autónomos\, parte superior de la nómina\, o en su caso demanda de empleo a:\nFundación Laboral de la Construcción\nAna Belén Carrasco Lobo\nEmail: acarrasco@fundacionlaboral.org\nTeléfono: 924 97 15 10\nSOLICITUD\n 
URL:https://www.caminosextremadura.es/evento/introduccion-a-la-metodologia-bim/
LOCATION:Fundación Laboral de la Construcción (Cáceres)\, C/ Ocho de Marzo s/n\, Polígono\, Cáceres\, Cáceres\, 10004\, España
CATEGORIES:Cursos propios,Otros Cursos
ATTACH;FMTTYPE=image/jpeg:https://www.caminosextremadura.es/wp-content/uploads/2021/06/Gemelo-Digital.jpg
END:VEVENT
END:VCALENDAR