BEGIN:VCALENDAR
VERSION:2.0
PRODID:-//Caminos Extremadura - ECPv6.11.2//NONSGML v1.0//EN
CALSCALE:GREGORIAN
METHOD:PUBLISH
X-ORIGINAL-URL:https://www.caminosextremadura.es
X-WR-CALDESC:Eventos para Caminos Extremadura
REFRESH-INTERVAL;VALUE=DURATION:PT1H
X-Robots-Tag:noindex
X-PUBLISHED-TTL:PT1H
BEGIN:VTIMEZONE
TZID:Europe/Madrid
BEGIN:DAYLIGHT
TZOFFSETFROM:+0100
TZOFFSETTO:+0200
TZNAME:CEST
DTSTART:20210328T010000
END:DAYLIGHT
BEGIN:STANDARD
TZOFFSETFROM:+0200
TZOFFSETTO:+0100
TZNAME:CET
DTSTART:20211031T010000
END:STANDARD
BEGIN:DAYLIGHT
TZOFFSETFROM:+0100
TZOFFSETTO:+0200
TZNAME:CEST
DTSTART:20220327T010000
END:DAYLIGHT
BEGIN:STANDARD
TZOFFSETFROM:+0200
TZOFFSETTO:+0100
TZNAME:CET
DTSTART:20221030T010000
END:STANDARD
BEGIN:DAYLIGHT
TZOFFSETFROM:+0100
TZOFFSETTO:+0200
TZNAME:CEST
DTSTART:20230326T010000
END:DAYLIGHT
BEGIN:STANDARD
TZOFFSETFROM:+0200
TZOFFSETTO:+0100
TZNAME:CET
DTSTART:20231029T010000
END:STANDARD
END:VTIMEZONE
BEGIN:VEVENT
DTSTART;TZID=Europe/Madrid:20230301T093000
DTEND;TZID=Europe/Madrid:20230301T130000
DTSTAMP:20260419T234621
CREATED:20230227T125127Z
LAST-MODIFIED:20230227T131345Z
UID:4401-1677663000-1677675600@www.caminosextremadura.es
SUMMARY:JORNADA CONSTRUCCIÓN\, PATRIMONIO Y MEDIO AMBIENTE\, EL NECESARIO EQUILIBRIO (1 DE MARZO CÁCERES)
DESCRIPTION:SEMINARIO DE CONTRATACIÓN PÚBLICA DE LA REAL ACADEMIA DE JURISPRUDENCIA Y LEGISLACIÓN DE EXTREMADURA (RAJLEX): \n\n\n\n\n\n\n\n\n4ª JORNADA DE TRABAJO: «CONSTRUCCIÓN\, PATRIMONIO HISTÓRICO Y MEDIO AMBIENTE: EL NECESARIO EQUILIBRIO «.\n\n\n\n\nFECHA: MIÉRCOLES 1 DE MARZO DE 2023\nLUGAR DE CELEBRACIÓN : SALÓN DE ACTOS DE LA ESCUELA POLITÉCNICA DE LA UNIVERSIDAD DE EXTREMADURA (CÁCERES)\nORGANIZADORES: CNC EXTREMADURA\, CNC CÁCERES\, FECONS\, RAJLEX Y UEX CÁCERES\n \nJORNADA GRATUITA PREVIA INSCRIPCIÓN :FICHA INSCRIPCIÓN JORNADA\nPROGRAMA JORNADA CACERES:\n\n\n\nCoordinadores: D. Juan Antonio Pavón Pérez / D. Joaquín Sánchez Chamorro\n\n\n\n\n\n\n9:30 horas: Acreditaciones. \n\n\n\n\n\n\n10:00 horas: Inauguración y presentación de la Jornada a cargo de: \n\n\n\n\n\n\nD. Jesús Torrecilla \n\n\n\n\n\n\nDirector de la Escuela Politécnica de la Uex\n\n\n\n\n\n\nD. Francisco Lamoneda \n\n\n\n\n\n\nPresidente de RAJLEX\n\n\n\n\n\n\nD. Juan Antonio Pavón Pérez \n\n\n\n\n\n\nCoordinador\n\n\n\n\n\n\nD. Carlos Izquierdo de Tapia \n\n\n\n\n\n\nPresidente de la Confederación Extremeña de la Construcción (CNC Extremadura)\n\n\n\n\n\n\n10:30 horas: \n\n\n\n\n\n\nPrimera Ponencia “Influencia de la intervención arqueológica en las obras de la Administración General del Estado». \n\n\n\n\n\n\nD. José Manuel González Parejo \n\n\n\n\n\n\nJefe de Servicio de Explotación de la Zona 6ª de la Confederación Hidrográfica del Guadiana.Vocal de la Junta Rectora de la Demarcación de Extremadura del Colegio de Ingenieros de Caminos\, Canales y Puertos.\n\n\n\n\n\n\n11:00 horas: \n\n\n\n\n\n\nSegunda Ponencia «Problemática en la ejecución de obras de edificación: incidentes reales». \n\n\n\n\n\n\n D. José María Abreu Sánchez \n\n\n\n\n\n\nVicepresidente 2º de CNC Cáceres-FECONS.\n\n\n\n\n\n\n11:30 horas: Pausa/café. \n\n\n\n\n\n\n11:45 horas: \n\n\n\n\n\n\nTercera ponencia: «Valdecañas: paradigma de compatibilidad entre desarrollo y conservación».\n\n\n\n\n\n\nD. Julián Mora Aliseda. \n\n\n\n\n\n\n\n\n\n\nCatedrático de Geografía y Ordenación del Territorio de la Universidad de Extremadura.\n\n\n\n\n\n\n\n\n\n\n12:15 horas: \n\n\n\n\n\n\nCuarta ponencia: “Contratación pública y patrimonio cultural”\n\n\n\n\n\n\nD. Pedro Brufao Curiel. \n\n\n\n\n\n\nProfesor Titular de Derecho Administrativo de la Universidad de Extremadura.\n\n\n\n\n\n\n12:45 horas: \n\n\n\n\n\n\nQuinta ponencia: “Patrimonio y Medio Ambiente\, aspectos claves en la prescripción y dirección facultativa”.\n\n\n\n\n\n\nD. José David Pastor Valle \n\n\n\n\n\n\n Vicedecano del Colegio de Ingenieros Técnicos de Obras Públicas de Extremadura.\n\n\n\n\n\n\nCOLABORADORES: \n\n\n\n\n 
URL:https://www.caminosextremadura.es/evento/jornada-construccion-patrimonio-y-medio-ambiente-el-necesario-equilibrio-1-de-marzo-caceres/
LOCATION:Escuela Politécnica de Cáceres\, Av. de la Universidad\, S/N\, Cáceres\, Cáceres\, 10003\, España
CATEGORIES:Otros Cursos,Cursos propios
END:VEVENT
BEGIN:VEVENT
DTSTART;TZID=Europe/Madrid:20220325T103000
DTEND;TZID=Europe/Madrid:20220401T153000
DTSTAMP:20260419T234621
CREATED:20220322T105604Z
LAST-MODIFIED:20220324T121900Z
UID:3838-1648204200-1648827000@www.caminosextremadura.es
SUMMARY:Semana Cultural de la Escuela Politécnica de Cáceres 2022
DESCRIPTION:Desde el viernes 25 de marzo hasta el viernes 1 de abril se celebra la Semana cultural en la Escuela Politécnica de Cáceres\, en la que participa la Demarcación de Extremadura del CICCP\nCONSULTA AQUÍ EL PROGRAMA CON TODAS LAS ACTIVIDADES \nDestacamos entre otros\, los siguientes eventos:\nViernes 25 de marzo\n\n\n9:30h| II Jornadas colaboración Universidad-Empresa. Formación y Captación de Talento\nJornadas sobre colaboración Universidad-Empresa\, centradas en la colaboración para acciones formativas y captación de talento.\nUna gran oportunidad para que empresas de la región conozcan esta vía de colaboración con la Escuela Politécnica de Cáceres\n\nORGANIZAN: D. Alberto Serna Martín\, D. José Carlos Sancho Núñez.\nLUGAR: Salón de Actos de la Escuela Politécnica\nINSCRIPCIÓN: https://bit.ly/2JornadaTC\nPROGRAMA:\n\n9:30 – Apertura \n10:00 – Cáceres Destino Digital\n– Jorge Villar\, Concejal de Turismo e Innovación del Ayuntamiento de Cáceres\n– Santos Jorna\, Diputado de Agenda Digital de la Diputación de Cáceres\n– Francisco Pizarro\, Director de desarrollo de negocio de FUNDECYT/PCTEx \n10:40 – Fórmulas de colaboración Universidad-Empresa\n– José Carlos Sancho\, Profesor Universidad de Extremadura \n10:50 – Resultados y experiencias del Programa de Innovación y Talento (PIT)\n– Servicio de Programas Innovadores de Empleo \n11:30 – Pausa Café \n12:00 – Iniciativas Fundae: un apoyo para la innovación y la digitalización en la empresa\n– Jaime Fenollera\, Fundación Estatal para la Formación en el Empleo (FUNDAE)\n– Carmen Castro\, Fundación Estatal para la Formación en el Empleo (FUNDAE) \n12:30 – Resultados y experiencias del Programa de Innovación y Talento (PIT) \n13:30 – Inversiones y reformas para una economía más resiliente y competitiva\n– Pedro Casares\, Comisión de Asuntos Económicos y Transformación Digital del\nCongreso de los Diputados \n14:00 – Clausura \n\n\nJueves 31 de marzo\n\n\n18:45h | Presentación del Colegio de Ingenieros de Caminos\, Canales y Puertos.\n\n\n\n\n\nORGANIZA: Dª. Marta García García\nLUGAR: Sala de Juntas de la Escuela Politécnica
URL:https://www.caminosextremadura.es/evento/semana-cultural-de-la-escuela-politecnica-de-caceres/
LOCATION:Escuela Politécnica de Cáceres\, Av. de la Universidad\, S/N\, Cáceres\, Cáceres\, 10003\, España
CATEGORIES:Otros Cursos
END:VEVENT
BEGIN:VEVENT
DTSTART;TZID=Europe/Madrid:20211214T100000
DTEND;TZID=Europe/Madrid:20211214T133000
DTSTAMP:20260419T234621
CREATED:20211130T134627Z
LAST-MODIFIED:20211210T112840Z
UID:3516-1639476000-1639488600@www.caminosextremadura.es
SUMMARY:SEMINARIO CÁCERES: "LA CONTRATACIÓN DE OBRA PÚBLICA EN LA ERA POST-PANDEMIA: LA REVISIÓN DE PRECIOS"
DESCRIPTION:FECHA: 14 DE DICIEMBRE  \nLUGAR: SALÓN DE ACTOS DE LA ESCUELA POLITÉCNICA DE CÁCERES \nINSCRIPCIÓN: (rellenar FORMULARIO y enviar por correo electrónico a: fecons@fecons.com) \nPROGRAMA SEMINARIO CÁCERES:
URL:https://www.caminosextremadura.es/evento/seminario-la-contratacion-de-obra-publica-en-la-era-post-pandemia-la-revision-de-precios/
LOCATION:Escuela Politécnica de Cáceres\, Av. de la Universidad\, S/N\, Cáceres\, Cáceres\, 10003\, España
ATTACH;FMTTYPE=image/jpeg:https://www.caminosextremadura.es/wp-content/uploads/2021/11/istockphoto-1154359331-612x612-1.jpg
ORGANIZER;CN="CICCP Extremadura":MAILTO:caceres@ciccp.es
END:VEVENT
BEGIN:VEVENT
DTSTART;TZID=Europe/Madrid:20210716T120000
DTEND;TZID=Europe/Madrid:20210716T133000
DTSTAMP:20260419T234621
CREATED:20210709T100832Z
LAST-MODIFIED:20210709T100832Z
UID:3336-1626436800-1626442200@www.caminosextremadura.es
SUMMARY:JORNADA TÉCNICA “EL PAVIMENTO MEMBRANA PARA FIRMES”
DESCRIPTION:  \nINSCRIPCIÓN \nPROGRAMA \nInicio: 12:00 h \n\nBienvenida y presentación por parte del Director de la Escuela Politécnica de Cáceres\, Jesús Torrecilla Pinero\,  y por el Decano de la Demarcación de Extremadura del CICCP\, José Manuel Blanco Segarra.\nPonencia Técnica: “El pavimento Membrana para firmes” (Pavimento de hormigón armado de espesor reducido) a cargo de José Ramón Vázquez Ruiz del Árbol (FAROBEL).\n\nSinopsis de la Ponencia: \n\nDescripción técnica de obtención de las rótulas del pavimento membrana con ayuda de hendiduras y armaduras: El esfuerzo cortante (no el momento flector) como factor para diseñar el espesor del pavimento.\nEjecución para conseguir una regularidad superficial muy buena (mejor incluso que la del asfalto) mediante el empleo de una extensión horizontal del hormigón en plano vertical y vibración mediante un bastidor tipo catamarán\, todo ello acoplado a una máquina con un mínimo gasto de energía (la vibración)\, que aprovecha la energía potencial del hormigón en la boca del camión-cuba y la capacidad de traslado del camión-cuba\, así como la energía eléctrica del propio camión para vibrar.\nObtención de un nivel de ruido menor que el del asfalto\, mediante la interposición de pletinas trapeciales bajo una chapa de vibración última\, que deja huecos longitudinales\, en vez del cepillado longitudinal\n\nUna consideración importante es que el paso del asfalto al hormigón conduce a un aumento importante de la seguridad vial nocturna. \nEn la Jornada se presentará un prototipo a escala reducida del Pavimento Membrana \n\nMesa redonda. Turno de preguntas \n\nFinalización: 13:30 h \nPonente: José Ramón Vázquez Ruiz del Árbol \nIngeniero de Caminos\, Canales y Puertos (promoción 1976) \nObras en España\, Estados Unidos\, Australia\, Dinamarca \nConferenciante en España\, Estados Unidos\, México\, Colombia\, Indonesia \nMiembro del Consejo de Carreteras de India en 2013 \nInventor de varias tecnologías en el campo de carreteras y ferrocarriles desde 1995
URL:https://www.caminosextremadura.es/evento/jornada-tecnica-el-pavimento-membrana-para-firmes/
LOCATION:Escuela Politécnica de Cáceres\, Av. de la Universidad\, S/N\, Cáceres\, Cáceres\, 10003\, España
CATEGORIES:Cursos propios
ATTACH;FMTTYPE=image/jpeg:https://www.caminosextremadura.es/wp-content/uploads/2021/07/PAVIMENTO-MEMBRANA.jpg
ORGANIZER;CN="CICCP Extremadura":MAILTO:caceres@ciccp.es
END:VEVENT
BEGIN:VEVENT
DTSTART;TZID=Europe/Madrid:20210615T093000
DTEND;TZID=Europe/Madrid:20210615T120000
DTSTAMP:20260419T234621
CREATED:20210614T093021Z
LAST-MODIFIED:20210614T093935Z
UID:3263-1623749400-1623758400@www.caminosextremadura.es
SUMMARY:JORNADA DE PRESENTACIÓN DE LA GUÍA BIM
DESCRIPTION:PROGRAMA\n09:30 Llegada de autoridades. \n10:00 Presentación de la Guía (Consejera de Movilidad\, Transporte y Vivienda). \n10:15 Jornada técnica. Preside el D.G. de Movilidad e Infraestructuras Viarias \n\nLa Guía BIM de la Dirección General de Movilidad e Infraestructuras. Estrategias y objetivos BIM. Ponente: Pedro A. Rodríguez Izquierdo. Jefe de Sección de la Dirección General de Movilidad e Infraestructuras Viarias.\nLa Guía BIM de la Dirección General de Movilidad e Infraestructuras. Requerimientos BIM. Ponente: Alex Gárate Arrazola. Ceo Ingreen Innovación\, S.L.\nExperiencia de Puertos del Estado en la metodología BIM. Ponente: Manuel Arana Burgos. Subdirector de Planificación e Infraestructuras. Puertos del Estado.\nLa metodología BIM en la Dirección General de Carreteras. Aplicación en la explotación de Carreteras. Ponente: José Menchen Fisac. Responsable BIM de la Dirección General de Carreteras.\n\n11:30 Coloquio. \nLUGAR DE CELEBRACIÓN: Salón de actos de la Escuela Politécnica de Cáceres.\nINSCRIPCIONES PARA ASISTENCIA PRESENCIAL: https://forms.gle/XsTK9hMhx3VnC7z89\nSEGUIMIENTO POR VIDEOCONFERENCIA A TRAVÉS DEL ENLACE: http://epcconline3.unex.es/Iepcc1/player.html?stats=1\n\n 
URL:https://www.caminosextremadura.es/evento/jornada-de-presentacion-de-la-guia-bim/
LOCATION:Escuela Politécnica de Cáceres\, Av. de la Universidad\, S/N\, Cáceres\, Cáceres\, 10003\, España
CATEGORIES:Otros Cursos
ATTACH;FMTTYPE=image/jpeg:https://www.caminosextremadura.es/wp-content/uploads/2021/06/Jornada-Guia-BIM.jpg
ORGANIZER;CN="CICCP Extremadura":MAILTO:caceres@ciccp.es
END:VEVENT
BEGIN:VEVENT
DTSTART;TZID=Europe/Madrid:20210614T183000
DTEND;TZID=Europe/Madrid:20210614T193000
DTSTAMP:20260419T234621
CREATED:20210608T084602Z
LAST-MODIFIED:20210608T085040Z
UID:3256-1623695400-1623699000@www.caminosextremadura.es
SUMMARY:CHARLA INFORMATIVA NUEVO MASTER ICCP_ UEX
DESCRIPTION:Presentación del Nuevo Master de Ingeniería de Caminos\, Canales y Puertos de la Escuela Politécnica de Cáceres (UEX)\, para el curso académico 2021-2022\n✨Nos hace mucha ilusión poder compartir con vosotros todos los detalles de nuestro nuevo Máster en Ingeniería de Caminos\, Canales y Puertos\, por eso realizaremos una charla informativa el 𝟏𝟒 𝐝𝐞 𝐣𝐮𝐧𝐢𝐨 a las 𝟏𝟖:𝟑𝟎𝐡.\nSE REALIZARÁ DE FORMA TELEMÁTICA.\nENLACE AL ZOOM 🔗 bit.ly/2T7YjWI\nTe esperamos…
URL:https://www.caminosextremadura.es/evento/charla-informativa-nuevo-master-iccp_-uex/
LOCATION:Escuela Politécnica de Cáceres\, Av. de la Universidad\, S/N\, Cáceres\, Cáceres\, 10003\, España
CATEGORIES:Otros Cursos
ATTACH;FMTTYPE=image/jpeg:https://www.caminosextremadura.es/wp-content/uploads/2021/06/presentacion-MAster-ICCP-UEX.jpg
END:VEVENT
BEGIN:VEVENT
DTSTART;TZID=Europe/Madrid:20210512T120000
DTEND;TZID=Europe/Madrid:20210512T140000
DTSTAMP:20260419T234621
CREATED:20210507T120906Z
LAST-MODIFIED:20210511T193401Z
UID:2991-1620820800-1620828000@www.caminosextremadura.es
SUMMARY:Acto día del Patrón Santo Domingo de la Calzada _Escuela Politécnica de Cáceres_12:00 h
DESCRIPTION:
URL:https://www.caminosextremadura.es/evento/acto-dia-del-patron-santo-domingo-de-la-calzada/
LOCATION:Escuela Politécnica de Cáceres\, Av. de la Universidad\, S/N\, Cáceres\, Cáceres\, 10003\, España
ATTACH;FMTTYPE=image/jpeg:https://www.caminosextremadura.es/wp-content/uploads/2021/05/cripta.jpg
ORGANIZER;CN="CICCP Extremadura":MAILTO:caceres@ciccp.es
END:VEVENT
END:VCALENDAR