BEGIN:VCALENDAR
VERSION:2.0
PRODID:-//Caminos Extremadura - ECPv6.11.2//NONSGML v1.0//EN
CALSCALE:GREGORIAN
METHOD:PUBLISH
X-WR-CALNAME:Caminos Extremadura
X-ORIGINAL-URL:https://www.caminosextremadura.es
X-WR-CALDESC:Eventos para Caminos Extremadura
REFRESH-INTERVAL;VALUE=DURATION:PT1H
X-Robots-Tag:noindex
X-PUBLISHED-TTL:PT1H
BEGIN:VTIMEZONE
TZID:Europe/Madrid
BEGIN:DAYLIGHT
TZOFFSETFROM:+0100
TZOFFSETTO:+0200
TZNAME:CEST
DTSTART:20230326T010000
END:DAYLIGHT
BEGIN:STANDARD
TZOFFSETFROM:+0200
TZOFFSETTO:+0100
TZNAME:CET
DTSTART:20231029T010000
END:STANDARD
END:VTIMEZONE
BEGIN:VEVENT
DTSTART;TZID=Europe/Madrid:20230302T093000
DTEND;TZID=Europe/Madrid:20230302T130000
DTSTAMP:20260419T072940
CREATED:20230227T131143Z
LAST-MODIFIED:20230227T133124Z
UID:4414-1677749400-1677762000@www.caminosextremadura.es
SUMMARY:JORNADA CONSTRUCCIÓN\, PATRIMONIO Y MEDIO AMBIENTE\, EL NECESARIO EQUILIBRIO (2 DE MARZO BADAJOZ)
DESCRIPTION:SEMINARIO DE CONTRATACIÓN PÚBLICA DE LA REAL ACADEMIA DE JURISPRUDENCIA Y LEGISLACIÓN DE EXTREMADURA (RAJLEX): \n\n\n\n\n\n\n\n\n4ª JORNADA DE TRABAJO: «CONSTRUCCIÓN\, PATRIMONIO HISTÓRICO Y MEDIO AMBIENTE: EL NECESARIO EQUILIBRIO «.\n\n\n\n\nFECHA: JUEVES 2 DE MARZO DE 2023\nLUGAR DE CELEBRACIÓN : SALÓN DE ACTOS DEL COLEGIO OFICIAL DE INGENIEROS INDUSTRIALES DE EXTREMADURA. (C/ Eladio Salinero de los Santos nº 1. Edificio Plaza. BADAJOZ)\nORGANIZADORES: CNC EXTREMADURA\, CNC BADAJOZ\, FEDERACIÓN DE PROMOTORES Y CONSTRUCTORES DE BADAJOZ\, RAJLEX\, Y COIIEX\n \nJORNADA GRATUITA PREVIA INSCRIPCIÓN :FICHA INSCRIPCION JORNADA BA\nPROGRAMA JORNADA BADAJOZ:\n\n\n\nCoordinadores: D. Juan Antonio Pavón Pérez / D. Joaquín Sánchez Chamorro\n\n\n\n\n\n\n9:30 horas: Acreditaciones. \n\n\n\n\n\n\n10:00 horas: Inauguración y presentación de la 4ª Jornada del Seminario de Contratación Pública de la RAJLEX a cargo de: \n\n\n\n\n\n\nDª Patricia da Costa Félix Bermejo \n\n\n\n\n\n\nDecana del Colegio Oficial de Ingenieros Industriales de Extremadura\n\n\n\n\n\n\nD. Francisco Lamoneda \n\n\n\n\n\n\nPresidente de RAJLEX\n\n\n\n\n\n\nD. Juan Antonio Pavón Pérez \n\n\n\n\n\n\nDirector/Coordinador del Seminario\n\n\n\n\n\n\nD. Javier González Ambel \n\n\n\n\n\n\nVicepresidente de CNC Extremadura\n\n\n\n\n\n\n10:30 horas:\n\n\n\n\n\n\nPrimera ponencia: “Patrimonio y Medio Ambiente\, aspectos claves en la prescripción y dirección facultativa”\n\n\n\n\n\n\nD. José David Pastor Valle \n\n\n\n\n\n\n Vicedecano del Colegio de Ingenieros Técnicos de Obras Públicas de Extremadura.\n\n\n\n\n\n\n11:00 horas:\n\n\n\n\n\n\nMesa redonda: «Problemática en la ejecución de obras de edificación: incidentes reales».\n\n\n\n\n\n\n D. José María Abreu Sánchez \n\n\n\n\n\n\nVicepresidente 2º de CNC Cáceres-FECONS.\n\n\n\n\n\n\n D. F. Javier Carpio Villa\n\n\n\n\n\n\n  Vocal de la Junta de Gobierno del Colegio Oficial de Arquitectos de Extremadura.\n\n\n\n\n\n\n11:45 horas: Pausa/café. \n\n\n\n\n\n\n12:15 horas: \n\n\n\n\n\n\nSegunda ponencia: «Valdecañas: paradigma de compatibilidad entre desarrollo y conservación».\n\n\n\n\n\n\nD. Julián Mora Aliseda. \n\n\n\n\n\n\nCatedrático de Geografía y Ordenación del Territorio de la Universidad de Extremadura\n\n\n\n\n\n\n12:45 horas: \n\n\n\n\n\n\nTercera ponencia: “Influencia de la intervención arqueológica en las obras de la Administración General del Estado».  \n\n\n\n\n\n\nD. Francisco Gálvez Ponce \n\n\n\n\n\n\nJefe de Servicio de Explotación de las Zonas 4ª y 5ª de la Confederación Hidrográfica del Guadiana.\n\n\n\n\n\n\nCOLABORADORES:
URL:https://www.caminosextremadura.es/evento/jornada-construccion-patrimonio-y-medio-ambiente-el-necesario-equilibrio-2-de-marzo-badajoz/
LOCATION:Colegio Oficial de Ingenieros Industriales de Extremadura\, C/ Eladio Salinero de los Santos nº 1. Edificio Plaza.\, Badajoz\, Badajoz\, 06011\, España
CATEGORIES:Cursos propios,Otros Cursos
END:VEVENT
END:VCALENDAR