BEGIN:VCALENDAR
VERSION:2.0
PRODID:-//Caminos Extremadura - ECPv6.11.2//NONSGML v1.0//EN
CALSCALE:GREGORIAN
METHOD:PUBLISH
X-ORIGINAL-URL:https://www.caminosextremadura.es
X-WR-CALDESC:Eventos para Caminos Extremadura
REFRESH-INTERVAL;VALUE=DURATION:PT1H
X-Robots-Tag:noindex
X-PUBLISHED-TTL:PT1H
BEGIN:VTIMEZONE
TZID:Europe/Madrid
BEGIN:DAYLIGHT
TZOFFSETFROM:+0100
TZOFFSETTO:+0200
TZNAME:CEST
DTSTART:20210328T010000
END:DAYLIGHT
BEGIN:STANDARD
TZOFFSETFROM:+0200
TZOFFSETTO:+0100
TZNAME:CET
DTSTART:20211031T010000
END:STANDARD
END:VTIMEZONE
BEGIN:VEVENT
DTSTART;TZID=Europe/Madrid:20211215T100000
DTEND;TZID=Europe/Madrid:20211215T133000
DTSTAMP:20260426T063207
CREATED:20211130T135601Z
LAST-MODIFIED:20211214T211646Z
UID:3542-1639562400-1639575000@www.caminosextremadura.es
SUMMARY:SEMINARIO BADAJOZ: "LA CONTRATACIÓN DE OBRA PÚBLICA EN LA ERA POST-PANDEMIA: LA REVISIÓN DE PRECIOS"
DESCRIPTION:FECHA: 15 DE DICIEMBRE  \nLUGAR: SALÓN DE ACTOS DE LA CÁMARA DE COMERCIO DE BADAJOZ \nINSCRIPCIÓN: (rellenar FORMULARIO y enviar por correo electrónico a: fecons@fecons.com) \nPROGRAMA SEMINARIO BADAJOZ: \n 
URL:https://www.caminosextremadura.es/evento/seminario-badajoz-la-contratacion-de-obra-publica-en-la-era-post-pandemia-la-revision-de-precios/
LOCATION:Cámara de Comercio de Badajoz\, Avda. de Europa\, 4 planta 1\, Badajoz\, Badajoz\, 06004\, España
ATTACH;FMTTYPE=image/jpeg:https://www.caminosextremadura.es/wp-content/uploads/2021/11/istockphoto-1154359331-612x612-1.jpg
ORGANIZER;CN="CICCP Extremadura":MAILTO:caceres@ciccp.es
END:VEVENT
END:VCALENDAR